BEGIN:VCALENDAR
VERSION:2.0
PRODID:-//Biblioteka Raczyńskich - ECPv6.2.3//NONSGML v1.0//EN
CALSCALE:GREGORIAN
METHOD:PUBLISH
X-ORIGINAL-URL:https://bracz.edu.pl
X-WR-CALDESC:Events for Biblioteka Raczyńskich
REFRESH-INTERVAL;VALUE=DURATION:PT1H
X-Robots-Tag:noindex
X-PUBLISHED-TTL:PT1H
BEGIN:VTIMEZONE
TZID:Europe/Warsaw
BEGIN:DAYLIGHT
TZOFFSETFROM:+0100
TZOFFSETTO:+0200
TZNAME:CEST
DTSTART:20180325T010000
END:DAYLIGHT
BEGIN:STANDARD
TZOFFSETFROM:+0200
TZOFFSETTO:+0100
TZNAME:CET
DTSTART:20181028T010000
END:STANDARD
END:VTIMEZONE
BEGIN:VEVENT
DTSTART;TZID=Europe/Warsaw:20181015T170000
DTEND;TZID=Europe/Warsaw:20181015T180000
DTSTAMP:20260424T143215
CREATED:20181010T083922Z
LAST-MODIFIED:20181010T083922Z
UID:1350-1539622800-1539626400@bracz.edu.pl
SUMMARY:SPEKTAKL „DZIEWCZYNKA Z ZAPASOWĄ GŁOWĄ”
DESCRIPTION:
URL:https://bracz.edu.pl/event/spektakl-dziewczynka-z-zapasowa-glowa-2/
LOCATION:Biblioteka Raczyńskich\, pl. Wolności 19\, Poznań\, 61-739\, Polska
END:VEVENT
END:VCALENDAR