BEGIN:VCALENDAR
VERSION:2.0
PRODID:-//Biblioteka Raczyńskich - ECPv6.2.3//NONSGML v1.0//EN
CALSCALE:GREGORIAN
METHOD:PUBLISH
X-ORIGINAL-URL:https://bracz.edu.pl
X-WR-CALDESC:Events for Biblioteka Raczyńskich
REFRESH-INTERVAL;VALUE=DURATION:PT1H
X-Robots-Tag:noindex
X-PUBLISHED-TTL:PT1H
BEGIN:VTIMEZONE
TZID:Europe/Warsaw
BEGIN:DAYLIGHT
TZOFFSETFROM:+0100
TZOFFSETTO:+0200
TZNAME:CEST
DTSTART:20180325T010000
END:DAYLIGHT
BEGIN:STANDARD
TZOFFSETFROM:+0200
TZOFFSETTO:+0100
TZNAME:CET
DTSTART:20181028T010000
END:STANDARD
END:VTIMEZONE
BEGIN:VEVENT
DTSTART;TZID=Europe/Warsaw:20181024T173000
DTEND;TZID=Europe/Warsaw:20181024T190000
DTSTAMP:20260424T155657
CREATED:20181010T131241Z
LAST-MODIFIED:20181010T131241Z
UID:1477-1540402200-1540407600@bracz.edu.pl
SUMMARY:50 lat Winograd - spotkanie z Sylwią Jarmuż
DESCRIPTION:
URL:https://bracz.edu.pl/event/50-lat-winograd-spotkanie-z-sylwia-jarmuz/
END:VEVENT
BEGIN:VEVENT
DTSTART;TZID=Europe/Warsaw:20181024T180000
DTEND;TZID=Europe/Warsaw:20181024T193000
DTSTAMP:20260424T155657
CREATED:20181010T131942Z
LAST-MODIFIED:20181010T131942Z
UID:1482-1540404000-1540409400@bracz.edu.pl
SUMMARY:"Rozstrzelani za uratowanie kobiety" - spotkanie z Krzysztofem M. Kaźmierczakiem
DESCRIPTION:
URL:https://bracz.edu.pl/event/rozstrzelani-za-uratowanie-kobiety-spotkanie-z-krzysztofem-m-kazmierczakiem/
END:VEVENT
END:VCALENDAR