BEGIN:VCALENDAR
VERSION:2.0
PRODID:-//Biblioteka Raczyńskich - ECPv6.2.3//NONSGML v1.0//EN
CALSCALE:GREGORIAN
METHOD:PUBLISH
X-WR-CALNAME:Biblioteka Raczyńskich
X-ORIGINAL-URL:https://bracz.edu.pl
X-WR-CALDESC:Events for Biblioteka Raczyńskich
REFRESH-INTERVAL;VALUE=DURATION:PT1H
X-Robots-Tag:noindex
X-PUBLISHED-TTL:PT1H
BEGIN:VTIMEZONE
TZID:Europe/Warsaw
BEGIN:DAYLIGHT
TZOFFSETFROM:+0100
TZOFFSETTO:+0200
TZNAME:CEST
DTSTART:20180325T010000
END:DAYLIGHT
BEGIN:STANDARD
TZOFFSETFROM:+0200
TZOFFSETTO:+0100
TZNAME:CET
DTSTART:20181028T010000
END:STANDARD
END:VTIMEZONE
BEGIN:VEVENT
DTSTART;TZID=Europe/Warsaw:20181105T100000
DTEND;TZID=Europe/Warsaw:20181105T190000
DTSTAMP:20260422T121935
CREATED:20181024T120753Z
LAST-MODIFIED:20181024T120753Z
UID:1978-1541412000-1541444400@bracz.edu.pl
SUMMARY:Konferencja naukowa: Polska w piosence (1989-2018)
DESCRIPTION:
URL:https://bracz.edu.pl/event/konferencja-naukowa-polska-w-piosence-1989-2018/
END:VEVENT
BEGIN:VEVENT
DTSTART;TZID=Europe/Warsaw:20181105T200000
DTEND;TZID=Europe/Warsaw:20181105T220000
DTSTAMP:20260422T121935
CREATED:20181011T105650Z
LAST-MODIFIED:20181011T105650Z
UID:1601-1541448000-1541455200@bracz.edu.pl
SUMMARY:Good L.U.C.K - L.U.C i Bovska
DESCRIPTION:
URL:https://bracz.edu.pl/event/good-l-u-c-k-l-u-c-i-bovska/
LOCATION:Aula Artis\, ul. Gen. Tadeusza Kutrzeby 10\, Poznań
CATEGORIES:FRAZY
END:VEVENT
END:VCALENDAR