BEGIN:VCALENDAR
VERSION:2.0
PRODID:-//Biblioteka Raczyńskich - ECPv6.2.3//NONSGML v1.0//EN
CALSCALE:GREGORIAN
METHOD:PUBLISH
X-ORIGINAL-URL:https://bracz.edu.pl
X-WR-CALDESC:Events for Biblioteka Raczyńskich
REFRESH-INTERVAL;VALUE=DURATION:PT1H
X-Robots-Tag:noindex
X-PUBLISHED-TTL:PT1H
BEGIN:VTIMEZONE
TZID:Europe/Warsaw
BEGIN:DAYLIGHT
TZOFFSETFROM:+0100
TZOFFSETTO:+0200
TZNAME:CEST
DTSTART:20190331T010000
END:DAYLIGHT
BEGIN:STANDARD
TZOFFSETFROM:+0200
TZOFFSETTO:+0100
TZNAME:CET
DTSTART:20191027T010000
END:STANDARD
END:VTIMEZONE
BEGIN:VEVENT
DTSTART;TZID=Europe/Warsaw:20191122T170000
DTEND;TZID=Europe/Warsaw:20191122T180000
DTSTAMP:20260422T003236
CREATED:20191029T122235Z
LAST-MODIFIED:20191029T122235Z
UID:6860-1574442000-1574445600@bracz.edu.pl
SUMMARY:Mama Mu i Pan Wrona. Spektakl Teatru TaLALA
DESCRIPTION:
URL:https://bracz.edu.pl/event/mama-mu-i-pan-wrona-spektakl-teatru-talala/
END:VEVENT
BEGIN:VEVENT
DTSTART;TZID=Europe/Warsaw:20191122T173000
DTEND;TZID=Europe/Warsaw:20191122T190000
DTSTAMP:20260422T003236
CREATED:20191017T132753Z
LAST-MODIFIED:20191017T132753Z
UID:6682-1574443800-1574449200@bracz.edu.pl
SUMMARY:Na Naramowicach o Naramowicach
DESCRIPTION:
URL:https://bracz.edu.pl/event/na-naramowicach-o-naramowicach/
LOCATION:Biblioteka Raczyńskich Filia Naramowicka\, ul. Rubież 14a\, Poznań
END:VEVENT
END:VCALENDAR