BEGIN:VCALENDAR
VERSION:2.0
PRODID:-//Biblioteka Raczyńskich - ECPv6.2.3//NONSGML v1.0//EN
CALSCALE:GREGORIAN
METHOD:PUBLISH
X-ORIGINAL-URL:https://bracz.edu.pl
X-WR-CALDESC:Events for Biblioteka Raczyńskich
REFRESH-INTERVAL;VALUE=DURATION:PT1H
X-Robots-Tag:noindex
X-PUBLISHED-TTL:PT1H
BEGIN:VTIMEZONE
TZID:Europe/Warsaw
BEGIN:DAYLIGHT
TZOFFSETFROM:+0100
TZOFFSETTO:+0200
TZNAME:CEST
DTSTART:20190331T010000
END:DAYLIGHT
BEGIN:STANDARD
TZOFFSETFROM:+0200
TZOFFSETTO:+0100
TZNAME:CET
DTSTART:20191027T010000
END:STANDARD
END:VTIMEZONE
BEGIN:VEVENT
DTSTART;VALUE=DATE:20191123
DTEND;VALUE=DATE:20191127
DTSTAMP:20260421T225335
CREATED:20191017T134825Z
LAST-MODIFIED:20191017T134825Z
UID:6691-1574467200-1574812799@bracz.edu.pl
SUMMARY:Festiwal słowa w piosence Frazy
DESCRIPTION:
URL:https://bracz.edu.pl/event/festiwal-slowa-w-piosence-frazy/
END:VEVENT
BEGIN:VEVENT
DTSTART;TZID=Europe/Warsaw:20191123T120000
DTEND;TZID=Europe/Warsaw:20191123T133000
DTSTAMP:20260421T225335
CREATED:20191017T134050Z
LAST-MODIFIED:20191017T134050Z
UID:6686-1574510400-1574515800@bracz.edu.pl
SUMMARY:3TATY\, 4 żywioły. Chwytam w lot!
DESCRIPTION:
URL:https://bracz.edu.pl/event/3taty-4-zywioly-chwytam-w-lot-2/
LOCATION:Biblioteka Raczyńskich Filia Naramowicka\, ul. Rubież 14a\, Poznań
END:VEVENT
END:VCALENDAR