BEGIN:VCALENDAR
VERSION:2.0
PRODID:-//Biblioteka Raczyńskich - ECPv6.2.3//NONSGML v1.0//EN
CALSCALE:GREGORIAN
METHOD:PUBLISH
X-ORIGINAL-URL:https://bracz.edu.pl
X-WR-CALDESC:Events for Biblioteka Raczyńskich
REFRESH-INTERVAL;VALUE=DURATION:PT1H
X-Robots-Tag:noindex
X-PUBLISHED-TTL:PT1H
BEGIN:VTIMEZONE
TZID:Europe/Warsaw
BEGIN:DAYLIGHT
TZOFFSETFROM:+0100
TZOFFSETTO:+0200
TZNAME:CEST
DTSTART:20190331T010000
END:DAYLIGHT
BEGIN:STANDARD
TZOFFSETFROM:+0200
TZOFFSETTO:+0100
TZNAME:CET
DTSTART:20191027T010000
END:STANDARD
END:VTIMEZONE
BEGIN:VEVENT
DTSTART;TZID=Europe/Warsaw:20191130T120000
DTEND;TZID=Europe/Warsaw:20191130T140000
DTSTAMP:20260421T194256
CREATED:20191018T102710Z
LAST-MODIFIED:20191018T102710Z
UID:6746-1575115200-1575122400@bracz.edu.pl
SUMMARY:„Misiu Szpeniolek” czyli „Kubuś Puchatek” po poznańsku
DESCRIPTION:
URL:https://bracz.edu.pl/event/misiu-szpeniolek-czyli-kubus-puchatek-po-poznansku/
END:VEVENT
END:VCALENDAR