BEGIN:VCALENDAR
VERSION:2.0
PRODID:-//Biblioteka Raczyńskich - ECPv6.2.3//NONSGML v1.0//EN
CALSCALE:GREGORIAN
METHOD:PUBLISH
X-WR-CALNAME:Biblioteka Raczyńskich
X-ORIGINAL-URL:https://bracz.edu.pl
X-WR-CALDESC:Events for Biblioteka Raczyńskich
REFRESH-INTERVAL;VALUE=DURATION:PT1H
X-Robots-Tag:noindex
X-PUBLISHED-TTL:PT1H
BEGIN:VTIMEZONE
TZID:Europe/Warsaw
BEGIN:DAYLIGHT
TZOFFSETFROM:+0100
TZOFFSETTO:+0200
TZNAME:CEST
DTSTART:20190331T010000
END:DAYLIGHT
BEGIN:STANDARD
TZOFFSETFROM:+0200
TZOFFSETTO:+0100
TZNAME:CET
DTSTART:20191027T010000
END:STANDARD
END:VTIMEZONE
BEGIN:VEVENT
DTSTART;TZID=Europe/Warsaw:20191203T170000
DTEND;TZID=Europe/Warsaw:20191203T190000
DTSTAMP:20260421T194300
CREATED:20191129T103129Z
LAST-MODIFIED:20191129T103129Z
UID:7363-1575392400-1575399600@bracz.edu.pl
SUMMARY:Ignaś Ziółko i Święty Mikołaj - warsztaty w Filii 46
DESCRIPTION:
URL:https://bracz.edu.pl/event/ignas-ziolko-i-swiety-mikolaj-warsztaty-w-filii-46/
LOCATION:Biblioteka Raczyńskich Filia 8\, ul. Osinowa 14/16\, Poznań\, Wielkopolskie\, Polska
END:VEVENT
END:VCALENDAR