BEGIN:VCALENDAR
VERSION:2.0
PRODID:-//Biblioteka Raczyńskich - ECPv6.2.3//NONSGML v1.0//EN
CALSCALE:GREGORIAN
METHOD:PUBLISH
X-ORIGINAL-URL:https://bracz.edu.pl
X-WR-CALDESC:Events for Biblioteka Raczyńskich
REFRESH-INTERVAL;VALUE=DURATION:PT1H
X-Robots-Tag:noindex
X-PUBLISHED-TTL:PT1H
BEGIN:VTIMEZONE
TZID:Europe/Warsaw
BEGIN:DAYLIGHT
TZOFFSETFROM:+0100
TZOFFSETTO:+0200
TZNAME:CEST
DTSTART:20190331T010000
END:DAYLIGHT
BEGIN:STANDARD
TZOFFSETFROM:+0200
TZOFFSETTO:+0100
TZNAME:CET
DTSTART:20191027T010000
END:STANDARD
END:VTIMEZONE
BEGIN:VEVENT
DTSTART;TZID=Europe/Warsaw:20191210T170000
DTEND;TZID=Europe/Warsaw:20191210T183000
DTSTAMP:20260423T103332
CREATED:20191203T085736Z
LAST-MODIFIED:20191203T085736Z
UID:7422-1575997200-1576002600@bracz.edu.pl
SUMMARY:Dziadek do orzechów. Warsztaty świąteczne
DESCRIPTION:
URL:https://bracz.edu.pl/event/dziadek-do-orzechow-warsztaty-swiateczne/
LOCATION:Biblioteka Raczyńskich Filia Wildecka ul. Hetmańska 91\, ul. Hetmańska 91\, Poznań\, Wielkopolskie
END:VEVENT
BEGIN:VEVENT
DTSTART;TZID=Europe/Warsaw:20191210T180000
DTEND;TZID=Europe/Warsaw:20191210T193000
DTSTAMP:20260423T103332
CREATED:20191119T113341Z
LAST-MODIFIED:20191119T113341Z
UID:7065-1576000800-1576006200@bracz.edu.pl
SUMMARY:„Jesteś większy\, niż myślisz..." Spotkanie z Antonim Rachmajdą OCD
DESCRIPTION:
URL:https://bracz.edu.pl/event/jestes-wiekszy-niz-myslisz-spotkanie-z-antonim-rachmajda-ocd/
LOCATION:Pracownia-Muzeum Józefa Ignacego Kraszewskiego\, ul. Wroniecka 14\, Poznań
END:VEVENT
END:VCALENDAR