BEGIN:VCALENDAR
VERSION:2.0
PRODID:-//Biblioteka Raczyńskich - ECPv6.2.3//NONSGML v1.0//EN
CALSCALE:GREGORIAN
METHOD:PUBLISH
X-WR-CALNAME:Biblioteka Raczyńskich
X-ORIGINAL-URL:https://bracz.edu.pl
X-WR-CALDESC:Events for Biblioteka Raczyńskich
REFRESH-INTERVAL;VALUE=DURATION:PT1H
X-Robots-Tag:noindex
X-PUBLISHED-TTL:PT1H
BEGIN:VTIMEZONE
TZID:Europe/Warsaw
BEGIN:DAYLIGHT
TZOFFSETFROM:+0100
TZOFFSETTO:+0200
TZNAME:CEST
DTSTART:20190331T010000
END:DAYLIGHT
BEGIN:STANDARD
TZOFFSETFROM:+0200
TZOFFSETTO:+0100
TZNAME:CET
DTSTART:20191027T010000
END:STANDARD
END:VTIMEZONE
BEGIN:VEVENT
DTSTART;TZID=Europe/Warsaw:20191213T173000
DTEND;TZID=Europe/Warsaw:20191213T190000
DTSTAMP:20260421T194258
CREATED:20191202T093536Z
LAST-MODIFIED:20191202T093536Z
UID:7410-1576258200-1576263600@bracz.edu.pl
SUMMARY:"Ach\, ten gorset!" Spotkanie o modzie w Filii 8
DESCRIPTION:
URL:https://bracz.edu.pl/event/ach-ten-gorset-spotkanie-o-modzie-w-filii-8/
LOCATION:Biblioteka Raczyńskich Filia 8\, ul. Osinowa 14/16\, Poznań\, Wielkopolskie\, Polska
END:VEVENT
END:VCALENDAR