BEGIN:VCALENDAR
VERSION:2.0
PRODID:-//Biblioteka Raczyńskich - ECPv6.2.3//NONSGML v1.0//EN
CALSCALE:GREGORIAN
METHOD:PUBLISH
X-ORIGINAL-URL:https://bracz.edu.pl
X-WR-CALDESC:Events for Biblioteka Raczyńskich
REFRESH-INTERVAL;VALUE=DURATION:PT1H
X-Robots-Tag:noindex
X-PUBLISHED-TTL:PT1H
BEGIN:VTIMEZONE
TZID:Europe/Warsaw
BEGIN:DAYLIGHT
TZOFFSETFROM:+0100
TZOFFSETTO:+0200
TZNAME:CEST
DTSTART:20210328T010000
END:DAYLIGHT
BEGIN:STANDARD
TZOFFSETFROM:+0200
TZOFFSETTO:+0100
TZNAME:CET
DTSTART:20211031T010000
END:STANDARD
END:VTIMEZONE
BEGIN:VEVENT
DTSTART;TZID=Europe/Warsaw:20210714T180000
DTEND;TZID=Europe/Warsaw:20210714T190000
DTSTAMP:20260421T180553
CREATED:20210618T134127Z
LAST-MODIFIED:20210618T134127Z
UID:11346-1626285600-1626289200@bracz.edu.pl
SUMMARY:Zygmunt August w oczach Kraszewskiego
DESCRIPTION:
URL:https://bracz.edu.pl/event/zygmunt-august-w-oczach-kraszewskiego/
END:VEVENT
END:VCALENDAR