BEGIN:VCALENDAR
VERSION:2.0
PRODID:-//Biblioteka Raczyńskich - ECPv6.2.3//NONSGML v1.0//EN
CALSCALE:GREGORIAN
METHOD:PUBLISH
X-ORIGINAL-URL:https://bracz.edu.pl
X-WR-CALDESC:Events for Biblioteka Raczyńskich
REFRESH-INTERVAL;VALUE=DURATION:PT1H
X-Robots-Tag:noindex
X-PUBLISHED-TTL:PT1H
BEGIN:VTIMEZONE
TZID:Europe/Warsaw
BEGIN:DAYLIGHT
TZOFFSETFROM:+0100
TZOFFSETTO:+0200
TZNAME:CEST
DTSTART:20210328T010000
END:DAYLIGHT
BEGIN:STANDARD
TZOFFSETFROM:+0200
TZOFFSETTO:+0100
TZNAME:CET
DTSTART:20211031T010000
END:STANDARD
END:VTIMEZONE
BEGIN:VEVENT
DTSTART;TZID=Europe/Warsaw:20211118T180000
DTEND;TZID=Europe/Warsaw:20211118T190000
DTSTAMP:20260420T170326
CREATED:20211021T115247Z
LAST-MODIFIED:20211021T115247Z
UID:12042-1637258400-1637262000@bracz.edu.pl
SUMMARY:Mól w sieci2. Spotkanie z kolejarzem Marcinem Antoszem
DESCRIPTION:
URL:https://bracz.edu.pl/event/mol-w-sieci2-spotkanie-z-kolejarzem-marcinem-antoszem/
CATEGORIES:dla maturzystów,dla wszystkich
END:VEVENT
END:VCALENDAR