BEGIN:VCALENDAR
VERSION:2.0
PRODID:-//Biblioteka Raczyńskich - ECPv6.2.3//NONSGML v1.0//EN
CALSCALE:GREGORIAN
METHOD:PUBLISH
X-WR-CALNAME:Biblioteka Raczyńskich
X-ORIGINAL-URL:https://bracz.edu.pl
X-WR-CALDESC:Events for Biblioteka Raczyńskich
REFRESH-INTERVAL;VALUE=DURATION:PT1H
X-Robots-Tag:noindex
X-PUBLISHED-TTL:PT1H
BEGIN:VTIMEZONE
TZID:Europe/Warsaw
BEGIN:DAYLIGHT
TZOFFSETFROM:+0100
TZOFFSETTO:+0200
TZNAME:CEST
DTSTART:20210328T010000
END:DAYLIGHT
BEGIN:STANDARD
TZOFFSETFROM:+0200
TZOFFSETTO:+0100
TZNAME:CET
DTSTART:20211031T010000
END:STANDARD
END:VTIMEZONE
BEGIN:VEVENT
DTSTART;TZID=Europe/Warsaw:20211124T163000
DTEND;TZID=Europe/Warsaw:20211124T173000
DTSTAMP:20260420T154450
CREATED:20211021T120949Z
LAST-MODIFIED:20211021T120949Z
UID:12051-1637771400-1637775000@bracz.edu.pl
SUMMARY:W kuluarach – artyści\, urzędnicy i politycy w życiu Iłły
DESCRIPTION:
URL:https://bracz.edu.pl/event/w-kuluarach-artysci-urzednicy-i-politycy-w-zyciu-illy/
LOCATION:Mieszkanie-Pracownia Kazimiery Iłłakowiczówny\, ul. Gajowa 8/4\, Poznań\, 60-815\, Polska
CATEGORIES:dla wszystkich
END:VEVENT
END:VCALENDAR