BEGIN:VCALENDAR
VERSION:2.0
PRODID:-//Biblioteka Raczyńskich - ECPv6.2.3//NONSGML v1.0//EN
CALSCALE:GREGORIAN
METHOD:PUBLISH
X-WR-CALNAME:Biblioteka Raczyńskich
X-ORIGINAL-URL:https://bracz.edu.pl
X-WR-CALDESC:Events for Biblioteka Raczyńskich
REFRESH-INTERVAL;VALUE=DURATION:PT1H
X-Robots-Tag:noindex
X-PUBLISHED-TTL:PT1H
BEGIN:VTIMEZONE
TZID:Europe/Warsaw
BEGIN:DAYLIGHT
TZOFFSETFROM:+0100
TZOFFSETTO:+0200
TZNAME:CEST
DTSTART:20220327T010000
END:DAYLIGHT
BEGIN:STANDARD
TZOFFSETFROM:+0200
TZOFFSETTO:+0100
TZNAME:CET
DTSTART:20221030T010000
END:STANDARD
END:VTIMEZONE
BEGIN:VEVENT
DTSTART;TZID=Europe/Warsaw:20221116T180000
DTEND;TZID=Europe/Warsaw:20221116T190000
DTSTAMP:20260421T090930
CREATED:20221021T124454Z
LAST-MODIFIED:20221021T124454Z
UID:14584-1668621600-1668625200@bracz.edu.pl
SUMMARY:Spotkanie z Markiem Pindralem w Filii 15
DESCRIPTION:
URL:https://bracz.edu.pl/event/spotkanie-z-markiem-pindralem-w-filii-15/
LOCATION:Filia 15\, ul. Fabianowo 2\, Poznań
CATEGORIES:dla Dorosłych
END:VEVENT
BEGIN:VEVENT
DTSTART;TZID=Europe/Warsaw:20221116T180000
DTEND;TZID=Europe/Warsaw:20221116T193000
DTSTAMP:20260421T090930
CREATED:20221017T105957Z
LAST-MODIFIED:20221107T114845Z
UID:14497-1668621600-1668627000@bracz.edu.pl
SUMMARY:Zapiski intymne. Z Agatą Tuszyńska o biografii Romaina Gary'ego „Żongler”
DESCRIPTION:
URL:https://bracz.edu.pl/event/zapiski-intymne-z-agata-tuszynska-o-biografii-romaina-garyego-zongler/
CATEGORIES:dla Dorosłych,dla maturzystów
ORGANIZER;CN="Biblioteka Raczy%C5%84skich":MAILTO:promocja@bracz.edu.pl
END:VEVENT
END:VCALENDAR