BEGIN:VCALENDAR
VERSION:2.0
PRODID:-//Biblioteka Raczyńskich - ECPv6.2.3//NONSGML v1.0//EN
CALSCALE:GREGORIAN
METHOD:PUBLISH
X-ORIGINAL-URL:https://bracz.edu.pl
X-WR-CALDESC:Events for Biblioteka Raczyńskich
REFRESH-INTERVAL;VALUE=DURATION:PT1H
X-Robots-Tag:noindex
X-PUBLISHED-TTL:PT1H
BEGIN:VTIMEZONE
TZID:Europe/Warsaw
BEGIN:DAYLIGHT
TZOFFSETFROM:+0100
TZOFFSETTO:+0200
TZNAME:CEST
DTSTART:20220327T010000
END:DAYLIGHT
BEGIN:STANDARD
TZOFFSETFROM:+0200
TZOFFSETTO:+0100
TZNAME:CET
DTSTART:20221030T010000
END:STANDARD
END:VTIMEZONE
BEGIN:VEVENT
DTSTART;TZID=Europe/Warsaw:20221119T110000
DTEND;TZID=Europe/Warsaw:20221119T120000
DTSTAMP:20260421T035402
CREATED:20221014T123704Z
LAST-MODIFIED:20221014T123704Z
UID:14463-1668855600-1668859200@bracz.edu.pl
SUMMARY:Konstancja Raczyńska - pani biblioteki. Zwiedzanie Biblioteki
DESCRIPTION:
URL:https://bracz.edu.pl/event/konstancja-raczynska-pani-biblioteki-zwiedzanie-biblioteki/
END:VEVENT
END:VCALENDAR