BEGIN:VCALENDAR
VERSION:2.0
PRODID:-//Biblioteka Raczyńskich - ECPv6.2.3//NONSGML v1.0//EN
CALSCALE:GREGORIAN
METHOD:PUBLISH
X-WR-CALNAME:Biblioteka Raczyńskich
X-ORIGINAL-URL:https://bracz.edu.pl
X-WR-CALDESC:Events for Biblioteka Raczyńskich
REFRESH-INTERVAL;VALUE=DURATION:PT1H
X-Robots-Tag:noindex
X-PUBLISHED-TTL:PT1H
BEGIN:VTIMEZONE
TZID:Europe/Warsaw
BEGIN:DAYLIGHT
TZOFFSETFROM:+0100
TZOFFSETTO:+0200
TZNAME:CEST
DTSTART:20220327T010000
END:DAYLIGHT
BEGIN:STANDARD
TZOFFSETFROM:+0200
TZOFFSETTO:+0100
TZNAME:CET
DTSTART:20221030T010000
END:STANDARD
END:VTIMEZONE
BEGIN:VEVENT
DTSTART;TZID=Europe/Warsaw:20221126T123000
DTEND;TZID=Europe/Warsaw:20221126T133000
DTSTAMP:20260420T124658
CREATED:20221026T065449Z
LAST-MODIFIED:20221026T065449Z
UID:14607-1669465800-1669469400@bracz.edu.pl
SUMMARY:Z odwagą o honor- oprowadzanie w Muzeum Literackim Henryka Sienkiewicza
DESCRIPTION:
URL:https://bracz.edu.pl/event/z-odwaga-o-honor-oprowadzanie-w-muzeum-literackim-henryka-sienkiewicza/
LOCATION:Muzeum Literackie Henryka Sienkiewicza\, Stary Rynek 84\, Poznań\, 61-772
CATEGORIES:dla Dorosłych,dla maturzystów
END:VEVENT
END:VCALENDAR