BEGIN:VCALENDAR
VERSION:2.0
PRODID:-//Biblioteka Raczyńskich - ECPv6.2.3//NONSGML v1.0//EN
CALSCALE:GREGORIAN
METHOD:PUBLISH
X-ORIGINAL-URL:https://bracz.edu.pl
X-WR-CALDESC:Events for Biblioteka Raczyńskich
REFRESH-INTERVAL;VALUE=DURATION:PT1H
X-Robots-Tag:noindex
X-PUBLISHED-TTL:PT1H
BEGIN:VTIMEZONE
TZID:Europe/Warsaw
BEGIN:DAYLIGHT
TZOFFSETFROM:+0100
TZOFFSETTO:+0200
TZNAME:CEST
DTSTART:20230326T010000
END:DAYLIGHT
BEGIN:STANDARD
TZOFFSETFROM:+0200
TZOFFSETTO:+0100
TZNAME:CET
DTSTART:20231029T010000
END:STANDARD
END:VTIMEZONE
BEGIN:VEVENT
DTSTART;TZID=Europe/Warsaw:20230506T110000
DTEND;TZID=Europe/Warsaw:20230506T120000
DTSTAMP:20260421T103612
CREATED:20230419T070057Z
LAST-MODIFIED:20230419T070057Z
UID:16109-1683370800-1683374400@bracz.edu.pl
SUMMARY:Zwiedzanie Biblioteki Raczyńskich
DESCRIPTION:
URL:https://bracz.edu.pl/event/zwiedzanie-biblioteki-raczynskich-6/
END:VEVENT
BEGIN:VEVENT
DTSTART;TZID=Europe/Warsaw:20230506T123000
DTEND;TZID=Europe/Warsaw:20230506T140000
DTSTAMP:20260421T103612
CREATED:20230419T070804Z
LAST-MODIFIED:20230419T070804Z
UID:16113-1683376200-1683381600@bracz.edu.pl
SUMMARY:Kocha czy nie kocha? O kobietach w życiu Henryka Sienkiewicza
DESCRIPTION:
URL:https://bracz.edu.pl/event/kocha-czy-nie-kocha-o-kobietach-w-zyciu-henryka-sienkiewicza-2/
END:VEVENT
END:VCALENDAR