BEGIN:VCALENDAR
VERSION:2.0
PRODID:-//Biblioteka Raczyńskich - ECPv6.2.3//NONSGML v1.0//EN
CALSCALE:GREGORIAN
METHOD:PUBLISH
X-WR-CALNAME:Biblioteka Raczyńskich
X-ORIGINAL-URL:https://bracz.edu.pl
X-WR-CALDESC:Events for Biblioteka Raczyńskich
REFRESH-INTERVAL;VALUE=DURATION:PT1H
X-Robots-Tag:noindex
X-PUBLISHED-TTL:PT1H
BEGIN:VTIMEZONE
TZID:Europe/Warsaw
BEGIN:DAYLIGHT
TZOFFSETFROM:+0100
TZOFFSETTO:+0200
TZNAME:CEST
DTSTART:20230326T010000
END:DAYLIGHT
BEGIN:STANDARD
TZOFFSETFROM:+0200
TZOFFSETTO:+0100
TZNAME:CET
DTSTART:20231029T010000
END:STANDARD
END:VTIMEZONE
BEGIN:VEVENT
DTSTART;TZID=Europe/Warsaw:20230515T110000
DTEND;TZID=Europe/Warsaw:20230531T180000
DTSTAMP:20260420T170206
CREATED:20230420T124908Z
LAST-MODIFIED:20230518T100540Z
UID:16241-1684148400-1685556000@bracz.edu.pl
SUMMARY:Poznańskie Dni Rodziny
DESCRIPTION:
URL:https://bracz.edu.pl/event/poznanskie-dni-rodziny-rodzinna-frajda-u-raczynskich/
END:VEVENT
BEGIN:VEVENT
DTSTART;TZID=Europe/Warsaw:20230529T110000
DTEND;TZID=Europe/Warsaw:20230529T190000
DTSTAMP:20260420T170206
CREATED:20230518T112012Z
LAST-MODIFIED:20230518T112012Z
UID:16409-1685358000-1685386800@bracz.edu.pl
SUMMARY:33 Dni Łazarza
DESCRIPTION:
URL:https://bracz.edu.pl/event/33-dni-lazarza/
END:VEVENT
BEGIN:VEVENT
DTSTART;TZID=Europe/Warsaw:20230529T170000
DTEND;TZID=Europe/Warsaw:20230529T183000
DTSTAMP:20260420T170207
CREATED:20230517T072344Z
LAST-MODIFIED:20230517T072344Z
UID:16359-1685379600-1685385000@bracz.edu.pl
SUMMARY:"Tkaczka chmur". Spotkanie z Katarzyną Jackowską-Enemuo
DESCRIPTION:
URL:https://bracz.edu.pl/event/tkaczka-chmur-spotkanie-z-katarzyna-jackowska-enemuo/
END:VEVENT
BEGIN:VEVENT
DTSTART;TZID=Europe/Warsaw:20230529T180000
DTEND;TZID=Europe/Warsaw:20230529T190000
DTSTAMP:20260420T170207
CREATED:20230419T132020Z
LAST-MODIFIED:20230419T132020Z
UID:16214-1685383200-1685386800@bracz.edu.pl
SUMMARY:Tradycyjny Klub Dyskusyjny. Zanim zerwiemy kwiat paproci
DESCRIPTION:
URL:https://bracz.edu.pl/event/tradycyjny-klub-dyskusyjny-zanim-zerwiemy-kwiat-paproci/
END:VEVENT
END:VCALENDAR