BEGIN:VCALENDAR
VERSION:2.0
PRODID:-//Biblioteka Raczyńskich - ECPv6.2.3//NONSGML v1.0//EN
CALSCALE:GREGORIAN
METHOD:PUBLISH
X-ORIGINAL-URL:https://bracz.edu.pl
X-WR-CALDESC:Events for Biblioteka Raczyńskich
REFRESH-INTERVAL;VALUE=DURATION:PT1H
X-Robots-Tag:noindex
X-PUBLISHED-TTL:PT1H
BEGIN:VTIMEZONE
TZID:Europe/Warsaw
BEGIN:DAYLIGHT
TZOFFSETFROM:+0100
TZOFFSETTO:+0200
TZNAME:CEST
DTSTART:20230326T010000
END:DAYLIGHT
BEGIN:STANDARD
TZOFFSETFROM:+0200
TZOFFSETTO:+0100
TZNAME:CET
DTSTART:20231029T010000
END:STANDARD
END:VTIMEZONE
BEGIN:VEVENT
DTSTART;TZID=Europe/Warsaw:20230614T173000
DTEND;TZID=Europe/Warsaw:20230614T190000
DTSTAMP:20260420T184448
CREATED:20230518T102835Z
LAST-MODIFIED:20230518T102835Z
UID:16394-1686763800-1686769200@bracz.edu.pl
SUMMARY:Spotkanie z Ryszardem Ćwirlejem
DESCRIPTION:
URL:https://bracz.edu.pl/event/spotkanie-z-ryszardem-cwirlejem/
END:VEVENT
END:VCALENDAR