BEGIN:VCALENDAR
VERSION:2.0
PRODID:-//Biblioteka Raczyńskich - ECPv6.2.3//NONSGML v1.0//EN
CALSCALE:GREGORIAN
METHOD:PUBLISH
X-ORIGINAL-URL:https://bracz.edu.pl
X-WR-CALDESC:Events for Biblioteka Raczyńskich
REFRESH-INTERVAL;VALUE=DURATION:PT1H
X-Robots-Tag:noindex
X-PUBLISHED-TTL:PT1H
BEGIN:VTIMEZONE
TZID:Europe/Warsaw
BEGIN:DAYLIGHT
TZOFFSETFROM:+0100
TZOFFSETTO:+0200
TZNAME:CEST
DTSTART:20230326T010000
END:DAYLIGHT
BEGIN:STANDARD
TZOFFSETFROM:+0200
TZOFFSETTO:+0100
TZNAME:CET
DTSTART:20231029T010000
END:STANDARD
END:VTIMEZONE
BEGIN:VEVENT
DTSTART;TZID=Europe/Warsaw:20231113T170000
DTEND;TZID=Europe/Warsaw:20231113T183000
DTSTAMP:20260420T125359
CREATED:20231207T103827Z
LAST-MODIFIED:20231207T105327Z
UID:22907-1699894800-1699900200@bracz.edu.pl
SUMMARY:Spotkanie z Kicią Kocią i Bajanką
DESCRIPTION:
URL:https://bracz.edu.pl/event/spotkanie-z-kicia-kocia-i-bajanka/
END:VEVENT
BEGIN:VEVENT
DTSTART;TZID=Europe/Warsaw:20231113T180000
DTEND;TZID=Europe/Warsaw:20231113T200000
DTSTAMP:20260420T125359
CREATED:20231207T112008Z
LAST-MODIFIED:20231207T112008Z
UID:22913-1699898400-1699905600@bracz.edu.pl
SUMMARY:Koncert z okazji Święta Niepodległości
DESCRIPTION:
URL:https://bracz.edu.pl/event/koncert-z-okazji-swieta-niepodleglosci/
END:VEVENT
END:VCALENDAR