BEGIN:VCALENDAR
VERSION:2.0
PRODID:-//Biblioteka Raczyńskich - ECPv6.2.3//NONSGML v1.0//EN
CALSCALE:GREGORIAN
METHOD:PUBLISH
X-ORIGINAL-URL:https://bracz.edu.pl
X-WR-CALDESC:Events for Biblioteka Raczyńskich
REFRESH-INTERVAL;VALUE=DURATION:PT1H
X-Robots-Tag:noindex
X-PUBLISHED-TTL:PT1H
BEGIN:VTIMEZONE
TZID:Europe/Warsaw
BEGIN:DAYLIGHT
TZOFFSETFROM:+0100
TZOFFSETTO:+0200
TZNAME:CEST
DTSTART:20230326T010000
END:DAYLIGHT
BEGIN:STANDARD
TZOFFSETFROM:+0200
TZOFFSETTO:+0100
TZNAME:CET
DTSTART:20231029T010000
END:STANDARD
END:VTIMEZONE
BEGIN:VEVENT
DTSTART;TZID=Europe/Warsaw:20231117T180000
DTEND;TZID=Europe/Warsaw:20231117T193000
DTSTAMP:20260422T141319
CREATED:20231212T093632Z
LAST-MODIFIED:20231212T093632Z
UID:22958-1700244000-1700249400@bracz.edu.pl
SUMMARY:Klub Książki u Raczyńskich. Spotkanie specjalne z literaturą hindi
DESCRIPTION:
URL:https://bracz.edu.pl/event/klub-ksiazki-u-raczynskich-spotkanie-specjalne-z-literatura-hindi-2/
END:VEVENT
END:VCALENDAR