BEGIN:VCALENDAR
VERSION:2.0
PRODID:-//Biblioteka Raczyńskich - ECPv6.2.3//NONSGML v1.0//EN
CALSCALE:GREGORIAN
METHOD:PUBLISH
X-ORIGINAL-URL:https://bracz.edu.pl
X-WR-CALDESC:Events for Biblioteka Raczyńskich
REFRESH-INTERVAL;VALUE=DURATION:PT1H
X-Robots-Tag:noindex
X-PUBLISHED-TTL:PT1H
BEGIN:VTIMEZONE
TZID:Europe/Warsaw
BEGIN:DAYLIGHT
TZOFFSETFROM:+0100
TZOFFSETTO:+0200
TZNAME:CEST
DTSTART:20230326T010000
END:DAYLIGHT
BEGIN:STANDARD
TZOFFSETFROM:+0200
TZOFFSETTO:+0100
TZNAME:CET
DTSTART:20231029T010000
END:STANDARD
END:VTIMEZONE
BEGIN:VEVENT
DTSTART;TZID=Europe/Warsaw:20231124T163000
DTEND;TZID=Europe/Warsaw:20231124T180000
DTSTAMP:20260420T124732
CREATED:20231213T114616Z
LAST-MODIFIED:20231213T114639Z
UID:23014-1700843400-1700848800@bracz.edu.pl
SUMMARY:Spotkanie o Poznaniu z Filipem Czekałą
DESCRIPTION:
URL:https://bracz.edu.pl/event/spotkanie-o-poznaniu-z-filipem-czekala/
END:VEVENT
BEGIN:VEVENT
DTSTART;TZID=Europe/Warsaw:20231124T180000
DTEND;TZID=Europe/Warsaw:20231124T193000
DTSTAMP:20260420T124732
CREATED:20231213T115012Z
LAST-MODIFIED:20231213T115518Z
UID:23016-1700848800-1700854200@bracz.edu.pl
SUMMARY:Klub książki u Raczyńskich. „Historie cmentarne” Borisa Akunina
DESCRIPTION:
URL:https://bracz.edu.pl/event/klub-ksiazki-u-raczynskich-historie-cmentarne-borisa-akunina/
END:VEVENT
END:VCALENDAR