BEGIN:VCALENDAR
VERSION:2.0
PRODID:-//Biblioteka Raczyńskich - ECPv6.2.3//NONSGML v1.0//EN
CALSCALE:GREGORIAN
METHOD:PUBLISH
X-ORIGINAL-URL:https://bracz.edu.pl
X-WR-CALDESC:Events for Biblioteka Raczyńskich
REFRESH-INTERVAL;VALUE=DURATION:PT1H
X-Robots-Tag:noindex
X-PUBLISHED-TTL:PT1H
BEGIN:VTIMEZONE
TZID:Europe/Warsaw
BEGIN:DAYLIGHT
TZOFFSETFROM:+0100
TZOFFSETTO:+0200
TZNAME:CEST
DTSTART:20240331T010000
END:DAYLIGHT
BEGIN:STANDARD
TZOFFSETFROM:+0200
TZOFFSETTO:+0100
TZNAME:CET
DTSTART:20241027T010000
END:STANDARD
END:VTIMEZONE
BEGIN:VEVENT
DTSTART;TZID=Europe/Warsaw:20240131T123000
DTEND;TZID=Europe/Warsaw:20240131T133000
DTSTAMP:20260420T141305
CREATED:20240123T130637Z
LAST-MODIFIED:20240123T131536Z
UID:23585-1706704200-1706707800@bracz.edu.pl
SUMMARY:Zwiedzanie Mieszkania-Pracowni Kazimiery Iłłakowiczówny
DESCRIPTION:
URL:https://bracz.edu.pl/event/zwiedzanie-mieszkania-pracowni-kazimiery-illakowiczowny-3/
END:VEVENT
BEGIN:VEVENT
DTSTART;TZID=Europe/Warsaw:20240131T180000
DTEND;TZID=Europe/Warsaw:20240131T193000
DTSTAMP:20260420T141305
CREATED:20240124T123136Z
LAST-MODIFIED:20240124T123136Z
UID:23643-1706724000-1706729400@bracz.edu.pl
SUMMARY:Klub Książki u Raczyńskich. Rebecca F. Kuang „Yellowface”
DESCRIPTION:
URL:https://bracz.edu.pl/event/klub-ksiazki-u-raczynskich-rebecca-f-kuang-yellowface/
END:VEVENT
END:VCALENDAR