BEGIN:VCALENDAR
VERSION:2.0
PRODID:-//Biblioteka Raczyńskich - ECPv6.2.3//NONSGML v1.0//EN
CALSCALE:GREGORIAN
METHOD:PUBLISH
X-WR-CALNAME:Biblioteka Raczyńskich
X-ORIGINAL-URL:https://bracz.edu.pl
X-WR-CALDESC:Events for Biblioteka Raczyńskich
REFRESH-INTERVAL;VALUE=DURATION:PT1H
X-Robots-Tag:noindex
X-PUBLISHED-TTL:PT1H
BEGIN:VTIMEZONE
TZID:Europe/Warsaw
BEGIN:DAYLIGHT
TZOFFSETFROM:+0100
TZOFFSETTO:+0200
TZNAME:CEST
DTSTART:20240331T010000
END:DAYLIGHT
BEGIN:STANDARD
TZOFFSETFROM:+0200
TZOFFSETTO:+0100
TZNAME:CET
DTSTART:20241027T010000
END:STANDARD
END:VTIMEZONE
BEGIN:VEVENT
DTSTART;TZID=Europe/Warsaw:20240208T180000
DTEND;TZID=Europe/Warsaw:20240208T200000
DTSTAMP:20260420T181849
CREATED:20240125T091251Z
LAST-MODIFIED:20240125T091251Z
UID:23782-1707415200-1707422400@bracz.edu.pl
SUMMARY:Niebezpieczne związki. Wykład dra inż. Wojciecha Smułka autora „Wypraw do świata biochemii”
DESCRIPTION:
URL:https://bracz.edu.pl/event/niebezpieczne-zwiazki-wyklad-dra-inz-wojciecha-smulka-autora-wypraw-do-swiata-biochemii/
END:VEVENT
END:VCALENDAR