BEGIN:VCALENDAR
VERSION:2.0
PRODID:-//Biblioteka Raczyńskich - ECPv6.2.3//NONSGML v1.0//EN
CALSCALE:GREGORIAN
METHOD:PUBLISH
X-ORIGINAL-URL:https://bracz.edu.pl
X-WR-CALDESC:Events for Biblioteka Raczyńskich
REFRESH-INTERVAL;VALUE=DURATION:PT1H
X-Robots-Tag:noindex
X-PUBLISHED-TTL:PT1H
BEGIN:VTIMEZONE
TZID:Europe/Warsaw
BEGIN:DAYLIGHT
TZOFFSETFROM:+0100
TZOFFSETTO:+0200
TZNAME:CEST
DTSTART:20240331T010000
END:DAYLIGHT
BEGIN:STANDARD
TZOFFSETFROM:+0200
TZOFFSETTO:+0100
TZNAME:CET
DTSTART:20241027T010000
END:STANDARD
END:VTIMEZONE
BEGIN:VEVENT
DTSTART;TZID=Europe/Warsaw:20240209T170000
DTEND;TZID=Europe/Warsaw:20240209T190000
DTSTAMP:20260420T182202
CREATED:20240208T071740Z
LAST-MODIFIED:20240208T071740Z
UID:24263-1707498000-1707505200@bracz.edu.pl
SUMMARY:Prezentacja poetów w Domu Literatury
DESCRIPTION:
URL:https://bracz.edu.pl/event/prezentacja-poetow-w-domu-literatury/
LOCATION:Pracownia-Muzeum Józefa Ignacego Kraszewskiego\, ul. Wroniecka 14\, Poznań
CATEGORIES:dla Dorosłych
END:VEVENT
END:VCALENDAR