BEGIN:VCALENDAR
VERSION:2.0
PRODID:-//Biblioteka Raczyńskich - ECPv6.2.3//NONSGML v1.0//EN
CALSCALE:GREGORIAN
METHOD:PUBLISH
X-ORIGINAL-URL:https://bracz.edu.pl
X-WR-CALDESC:Events for Biblioteka Raczyńskich
REFRESH-INTERVAL;VALUE=DURATION:PT1H
X-Robots-Tag:noindex
X-PUBLISHED-TTL:PT1H
BEGIN:VTIMEZONE
TZID:Europe/Warsaw
BEGIN:DAYLIGHT
TZOFFSETFROM:+0100
TZOFFSETTO:+0200
TZNAME:CEST
DTSTART:20240331T010000
END:DAYLIGHT
BEGIN:STANDARD
TZOFFSETFROM:+0200
TZOFFSETTO:+0100
TZNAME:CET
DTSTART:20241027T010000
END:STANDARD
END:VTIMEZONE
BEGIN:VEVENT
DTSTART;TZID=Europe/Warsaw:20240210T110000
DTEND;TZID=Europe/Warsaw:20240210T120000
DTSTAMP:20260420T212159
CREATED:20240125T092814Z
LAST-MODIFIED:20240125T092814Z
UID:23788-1707562800-1707566400@bracz.edu.pl
SUMMARY:Oprowadzanie po Bibliotece Raczyńskich
DESCRIPTION:
URL:https://bracz.edu.pl/event/oprowadzanie-po-bibliotece-raczynskich-2/
END:VEVENT
BEGIN:VEVENT
DTSTART;TZID=Europe/Warsaw:20240210T130000
DTEND;TZID=Europe/Warsaw:20240210T150000
DTSTAMP:20260420T212159
CREATED:20240125T093309Z
LAST-MODIFIED:20240125T093434Z
UID:23795-1707570000-1707577200@bracz.edu.pl
SUMMARY:Trójkąty miłosne u Sienkiewicza. Odsłona II: „Rodzina połanieckich”. Wernisaż wystawy
DESCRIPTION:
URL:https://bracz.edu.pl/event/trojkaty-milosne-u-sienkiewicza-odslona-ii-rodzina-polanieckich-wernisaz-wystawy/
END:VEVENT
END:VCALENDAR