BEGIN:VCALENDAR
VERSION:2.0
PRODID:-//Biblioteka Raczyńskich - ECPv6.2.3//NONSGML v1.0//EN
CALSCALE:GREGORIAN
METHOD:PUBLISH
X-ORIGINAL-URL:https://bracz.edu.pl
X-WR-CALDESC:Events for Biblioteka Raczyńskich
REFRESH-INTERVAL;VALUE=DURATION:PT1H
X-Robots-Tag:noindex
X-PUBLISHED-TTL:PT1H
BEGIN:VTIMEZONE
TZID:Europe/Warsaw
BEGIN:DAYLIGHT
TZOFFSETFROM:+0100
TZOFFSETTO:+0200
TZNAME:CEST
DTSTART:20240331T010000
END:DAYLIGHT
BEGIN:STANDARD
TZOFFSETFROM:+0200
TZOFFSETTO:+0100
TZNAME:CET
DTSTART:20241027T010000
END:STANDARD
END:VTIMEZONE
BEGIN:VEVENT
DTSTART;TZID=Europe/Warsaw:20240212T170000
DTEND;TZID=Europe/Warsaw:20240212T190000
DTSTAMP:20260420T212235
CREATED:20240125T094632Z
LAST-MODIFIED:20240125T094632Z
UID:23801-1707757200-1707764400@bracz.edu.pl
SUMMARY:Spotkanie z Aldoną Wleklak autorką „Sagi niewoli”
DESCRIPTION:
URL:https://bracz.edu.pl/event/spotkanie-z-aldona-wleklak-autorka-sagi-niewoli/
END:VEVENT
BEGIN:VEVENT
DTSTART;TZID=Europe/Warsaw:20240212T180000
DTEND;TZID=Europe/Warsaw:20240212T193000
DTSTAMP:20260420T212235
CREATED:20240125T125427Z
LAST-MODIFIED:20240125T125427Z
UID:23823-1707760800-1707766200@bracz.edu.pl
SUMMARY:Bookclub We need ya. Spotkanie z Oliwią Panek
DESCRIPTION:
URL:https://bracz.edu.pl/event/bookclub-we-need-ya-spotkanie-z-oliwia-panek/
END:VEVENT
END:VCALENDAR