BEGIN:VCALENDAR
VERSION:2.0
PRODID:-//Biblioteka Raczyńskich - ECPv6.2.3//NONSGML v1.0//EN
CALSCALE:GREGORIAN
METHOD:PUBLISH
X-WR-CALNAME:Biblioteka Raczyńskich
X-ORIGINAL-URL:https://bracz.edu.pl
X-WR-CALDESC:Events for Biblioteka Raczyńskich
REFRESH-INTERVAL;VALUE=DURATION:PT1H
X-Robots-Tag:noindex
X-PUBLISHED-TTL:PT1H
BEGIN:VTIMEZONE
TZID:Europe/Warsaw
BEGIN:DAYLIGHT
TZOFFSETFROM:+0100
TZOFFSETTO:+0200
TZNAME:CEST
DTSTART:20240331T010000
END:DAYLIGHT
BEGIN:STANDARD
TZOFFSETFROM:+0200
TZOFFSETTO:+0100
TZNAME:CET
DTSTART:20241027T010000
END:STANDARD
END:VTIMEZONE
BEGIN:VEVENT
DTSTART;TZID=Europe/Warsaw:20240217T123000
DTEND;TZID=Europe/Warsaw:20240217T143000
DTSTAMP:20260420T181852
CREATED:20240125T135206Z
LAST-MODIFIED:20240220T074806Z
UID:23845-1708173000-1708180200@bracz.edu.pl
SUMMARY:Rodzinna garderoba – moja i twoja ozdoba. O sekretach XIX-wiecznej szafy. Warsztaty dla rodzin z dziećmi
DESCRIPTION:
URL:https://bracz.edu.pl/event/rodzinna-garderoba-moja-i-twoja-ozdoba-o-sekretach-xix-wiecznej-szafy-warsztaty-dla-rodzin-z-dziecmi/
END:VEVENT
END:VCALENDAR