BEGIN:VCALENDAR
VERSION:2.0
PRODID:-//Biblioteka Raczyńskich - ECPv6.2.3//NONSGML v1.0//EN
CALSCALE:GREGORIAN
METHOD:PUBLISH
X-ORIGINAL-URL:https://bracz.edu.pl
X-WR-CALDESC:Events for Biblioteka Raczyńskich
REFRESH-INTERVAL;VALUE=DURATION:PT1H
X-Robots-Tag:noindex
X-PUBLISHED-TTL:PT1H
BEGIN:VTIMEZONE
TZID:Europe/Warsaw
BEGIN:DAYLIGHT
TZOFFSETFROM:+0100
TZOFFSETTO:+0200
TZNAME:CEST
DTSTART:20240331T010000
END:DAYLIGHT
BEGIN:STANDARD
TZOFFSETFROM:+0200
TZOFFSETTO:+0100
TZNAME:CET
DTSTART:20241027T010000
END:STANDARD
END:VTIMEZONE
BEGIN:VEVENT
DTSTART;TZID=Europe/Warsaw:20240228T110000
DTEND;TZID=Europe/Warsaw:20240228T120000
DTSTAMP:20260420T182015
CREATED:20240126T104737Z
LAST-MODIFIED:20240126T104737Z
UID:23957-1709118000-1709121600@bracz.edu.pl
SUMMARY:Zwiedzanie biblioteki dla seniorów
DESCRIPTION:
URL:https://bracz.edu.pl/event/zwiedzanie-biblioteki-dla-seniorow-9/
END:VEVENT
BEGIN:VEVENT
DTSTART;TZID=Europe/Warsaw:20240228T123000
DTEND;TZID=Europe/Warsaw:20240228T133000
DTSTAMP:20260420T182015
CREATED:20240126T105603Z
LAST-MODIFIED:20240126T125415Z
UID:23966-1709123400-1709127000@bracz.edu.pl
SUMMARY:Zwiedzanie Mieszkania-Pracowni Kazimiery Iłłakowiczówny
DESCRIPTION:
URL:https://bracz.edu.pl/event/zwiedzanie-mieszkania-pracowni-kazimiery-illakowiczowny-5/
END:VEVENT
BEGIN:VEVENT
DTSTART;TZID=Europe/Warsaw:20240228T180000
DTEND;TZID=Europe/Warsaw:20240228T193000
DTSTAMP:20260420T182015
CREATED:20240126T125907Z
LAST-MODIFIED:20240126T125907Z
UID:23978-1709143200-1709148600@bracz.edu.pl
SUMMARY:Strony fotografii. Spotkanie z Mateuszem Sadowskim
DESCRIPTION:
URL:https://bracz.edu.pl/event/strony-fotografii-spotkanie-z-mateuszem-sadowskim/
END:VEVENT
BEGIN:VEVENT
DTSTART;TZID=Europe/Warsaw:20240228T180000
DTEND;TZID=Europe/Warsaw:20240228T200000
DTSTAMP:20260420T182015
CREATED:20240126T130835Z
LAST-MODIFIED:20240126T130835Z
UID:23982-1709143200-1709150400@bracz.edu.pl
SUMMARY:Spotkanie z Marią Magdaleną Pocgaj i Andrzejem Szmalą wokół książki poetyckiej pt. „Sápmi. Wiersze z Północy”
DESCRIPTION:
URL:https://bracz.edu.pl/event/spotkanie-z-maria-magdalena-pocgaj-i-andrzejem-szmala-wokol-ksiazki-poetyckiej-pt-sapmi-wiersze-z-polnocy/
END:VEVENT
END:VCALENDAR