BEGIN:VCALENDAR
VERSION:2.0
PRODID:-//Biblioteka Raczyńskich - ECPv6.2.3//NONSGML v1.0//EN
CALSCALE:GREGORIAN
METHOD:PUBLISH
X-ORIGINAL-URL:https://bracz.edu.pl
X-WR-CALDESC:Events for Biblioteka Raczyńskich
REFRESH-INTERVAL;VALUE=DURATION:PT1H
X-Robots-Tag:noindex
X-PUBLISHED-TTL:PT1H
BEGIN:VTIMEZONE
TZID:Europe/Warsaw
BEGIN:DAYLIGHT
TZOFFSETFROM:+0100
TZOFFSETTO:+0200
TZNAME:CEST
DTSTART:20240331T010000
END:DAYLIGHT
BEGIN:STANDARD
TZOFFSETFROM:+0200
TZOFFSETTO:+0100
TZNAME:CET
DTSTART:20241027T010000
END:STANDARD
END:VTIMEZONE
BEGIN:VEVENT
DTSTART;TZID=Europe/Warsaw:20240307T170000
DTEND;TZID=Europe/Warsaw:20240307T183000
DTSTAMP:20260420T225625
CREATED:20240222T113551Z
LAST-MODIFIED:20240222T113551Z
UID:24384-1709830800-1709836200@bracz.edu.pl
SUMMARY:Pamiętaj o czwartku
DESCRIPTION:
URL:https://bracz.edu.pl/event/pamietaj-o-czwartku-3/
END:VEVENT
BEGIN:VEVENT
DTSTART;TZID=Europe/Warsaw:20240307T180000
DTEND;TZID=Europe/Warsaw:20240307T200000
DTSTAMP:20260420T225625
CREATED:20240222T134129Z
LAST-MODIFIED:20240222T134129Z
UID:24389-1709834400-1709841600@bracz.edu.pl
SUMMARY:XXXVI Spotkanie z Arcydziełem „Harmonia Macrocosmica” Andreasa Cellariusa i inne atlasy oraz mapy nieba gwiaździstego
DESCRIPTION:
URL:https://bracz.edu.pl/event/xxxvi-spotkanie-z-arcydzielem-harmonia-macrocosmica-andreasa-cellariusa-i-inne-atlasy-oraz-mapy-nieba-gwiazdzistego/
END:VEVENT
END:VCALENDAR