BEGIN:VCALENDAR
VERSION:2.0
PRODID:-//Biblioteka Raczyńskich - ECPv6.2.3//NONSGML v1.0//EN
CALSCALE:GREGORIAN
METHOD:PUBLISH
X-WR-CALNAME:Biblioteka Raczyńskich
X-ORIGINAL-URL:https://bracz.edu.pl
X-WR-CALDESC:Events for Biblioteka Raczyńskich
REFRESH-INTERVAL;VALUE=DURATION:PT1H
X-Robots-Tag:noindex
X-PUBLISHED-TTL:PT1H
BEGIN:VTIMEZONE
TZID:Europe/Warsaw
BEGIN:DAYLIGHT
TZOFFSETFROM:+0100
TZOFFSETTO:+0200
TZNAME:CEST
DTSTART:20240331T010000
END:DAYLIGHT
BEGIN:STANDARD
TZOFFSETFROM:+0200
TZOFFSETTO:+0100
TZNAME:CET
DTSTART:20241027T010000
END:STANDARD
END:VTIMEZONE
BEGIN:VEVENT
DTSTART;TZID=Europe/Warsaw:20240308T153000
DTEND;TZID=Europe/Warsaw:20240308T193000
DTSTAMP:20260422T121931
CREATED:20240226T143346Z
LAST-MODIFIED:20240226T143346Z
UID:24582-1709911800-1709926200@bracz.edu.pl
SUMMARY:Krąg tkacki
DESCRIPTION:
URL:https://bracz.edu.pl/event/krag-tkacki/
END:VEVENT
BEGIN:VEVENT
DTSTART;TZID=Europe/Warsaw:20240308T180000
DTEND;TZID=Europe/Warsaw:20240308T193000
DTSTAMP:20260422T121931
CREATED:20240222T140325Z
LAST-MODIFIED:20240222T140325Z
UID:24397-1709920800-1709926200@bracz.edu.pl
SUMMARY:Kieszenie pełne wymysłów. Spotkanie z Åsą Lind
DESCRIPTION:
URL:https://bracz.edu.pl/event/kieszenie-pelne-wymyslow-spotkanie-z-asa-lind/
END:VEVENT
END:VCALENDAR