BEGIN:VCALENDAR
VERSION:2.0
PRODID:-//Biblioteka Raczyńskich - ECPv6.2.3//NONSGML v1.0//EN
CALSCALE:GREGORIAN
METHOD:PUBLISH
X-ORIGINAL-URL:https://bracz.edu.pl
X-WR-CALDESC:Events for Biblioteka Raczyńskich
REFRESH-INTERVAL;VALUE=DURATION:PT1H
X-Robots-Tag:noindex
X-PUBLISHED-TTL:PT1H
BEGIN:VTIMEZONE
TZID:Europe/Warsaw
BEGIN:DAYLIGHT
TZOFFSETFROM:+0100
TZOFFSETTO:+0200
TZNAME:CEST
DTSTART:20240331T010000
END:DAYLIGHT
BEGIN:STANDARD
TZOFFSETFROM:+0200
TZOFFSETTO:+0100
TZNAME:CET
DTSTART:20241027T010000
END:STANDARD
END:VTIMEZONE
BEGIN:VEVENT
DTSTART;TZID=Europe/Warsaw:20240312T170000
DTEND;TZID=Europe/Warsaw:20240312T183000
DTSTAMP:20260420T195309
CREATED:20240226T072815Z
LAST-MODIFIED:20240226T072815Z
UID:24525-1710262800-1710268200@bracz.edu.pl
SUMMARY:Berlińskie impresje. Spotkanie z Tomaszem Laskowskim\, miejskim przewodnikiem
DESCRIPTION:
URL:https://bracz.edu.pl/event/berlinskie-impresje-spotkanie-z-tomaszem-laskowskim-miejskim-przewodnikiem/
END:VEVENT
END:VCALENDAR