BEGIN:VCALENDAR
VERSION:2.0
PRODID:-//Biblioteka Raczyńskich - ECPv6.2.3//NONSGML v1.0//EN
CALSCALE:GREGORIAN
METHOD:PUBLISH
X-ORIGINAL-URL:https://bracz.edu.pl
X-WR-CALDESC:Events for Biblioteka Raczyńskich
REFRESH-INTERVAL;VALUE=DURATION:PT1H
X-Robots-Tag:noindex
X-PUBLISHED-TTL:PT1H
BEGIN:VTIMEZONE
TZID:Europe/Warsaw
BEGIN:DAYLIGHT
TZOFFSETFROM:+0100
TZOFFSETTO:+0200
TZNAME:CEST
DTSTART:20240331T010000
END:DAYLIGHT
BEGIN:STANDARD
TZOFFSETFROM:+0200
TZOFFSETTO:+0100
TZNAME:CET
DTSTART:20241027T010000
END:STANDARD
END:VTIMEZONE
BEGIN:VEVENT
DTSTART;TZID=Europe/Warsaw:20240321T173000
DTEND;TZID=Europe/Warsaw:20240321T193000
DTSTAMP:20260421T004201
CREATED:20240226T095816Z
LAST-MODIFIED:20240226T095816Z
UID:24543-1711042200-1711049400@bracz.edu.pl
SUMMARY:W małym kinie u Raczyńskich. Ikony Hollywood: Rita i jej rękawiczka
DESCRIPTION:
URL:https://bracz.edu.pl/event/w-malym-kinie-u-raczynskich-ikony-hollywood-rita-i-jej-rekawiczka/
END:VEVENT
BEGIN:VEVENT
DTSTART;TZID=Europe/Warsaw:20240321T180000
DTEND;TZID=Europe/Warsaw:20240321T200000
DTSTAMP:20260421T004201
CREATED:20240226T101551Z
LAST-MODIFIED:20240226T101551Z
UID:24547-1711044000-1711051200@bracz.edu.pl
SUMMARY:Slam poetycki
DESCRIPTION:
URL:https://bracz.edu.pl/event/slam-poetycki/
END:VEVENT
END:VCALENDAR