BEGIN:VCALENDAR
VERSION:2.0
PRODID:-//Biblioteka Raczyńskich - ECPv6.2.3//NONSGML v1.0//EN
CALSCALE:GREGORIAN
METHOD:PUBLISH
X-ORIGINAL-URL:https://bracz.edu.pl
X-WR-CALDESC:Events for Biblioteka Raczyńskich
REFRESH-INTERVAL;VALUE=DURATION:PT1H
X-Robots-Tag:noindex
X-PUBLISHED-TTL:PT1H
BEGIN:VTIMEZONE
TZID:Europe/Warsaw
BEGIN:DAYLIGHT
TZOFFSETFROM:+0100
TZOFFSETTO:+0200
TZNAME:CEST
DTSTART:20240331T010000
END:DAYLIGHT
BEGIN:STANDARD
TZOFFSETFROM:+0200
TZOFFSETTO:+0100
TZNAME:CET
DTSTART:20241027T010000
END:STANDARD
END:VTIMEZONE
BEGIN:VEVENT
DTSTART;TZID=Europe/Warsaw:20240325T180000
DTEND;TZID=Europe/Warsaw:20240327T200000
DTSTAMP:20260420T195254
CREATED:20240226T133906Z
LAST-MODIFIED:20240311T120256Z
UID:24571-1711389600-1711569600@bracz.edu.pl
SUMMARY:Festiwal Wielkanocny IDEA.CZAS.MIEJSCE. Uwaga na 25 i 27 marca brak miejsc
DESCRIPTION:
URL:https://bracz.edu.pl/event/festiwal-wielkanocny-idea-czas-miejsce/
END:VEVENT
BEGIN:VEVENT
DTSTART;TZID=Europe/Warsaw:20240327T123000
DTEND;TZID=Europe/Warsaw:20240327T133000
DTSTAMP:20260420T195254
CREATED:20240226T142121Z
LAST-MODIFIED:20240226T142121Z
UID:24578-1711542600-1711546200@bracz.edu.pl
SUMMARY:Świąteczne spotkania na Gajowej. Kazimiera Iłłakowiczówna jako homo religiosus
DESCRIPTION:
URL:https://bracz.edu.pl/event/swiateczne-spotkania-na-gajowej-kazimiera-illakowiczowna-jako-homo-religiosus-2/
END:VEVENT
BEGIN:VEVENT
DTSTART;TZID=Europe/Warsaw:20240327T170000
DTEND;TZID=Europe/Warsaw:20240327T190000
DTSTAMP:20260420T195254
CREATED:20240321T122549Z
LAST-MODIFIED:20240321T122613Z
UID:24962-1711558800-1711566000@bracz.edu.pl
SUMMARY:Figurama 24. Międzynarodowa wystawa studenckiego rysunku figuratywnego
DESCRIPTION:
URL:https://bracz.edu.pl/event/figurama-24-miedzynarodowa-wystawa-studenckiego-rysunku-figuratywnego/
END:VEVENT
END:VCALENDAR