BEGIN:VCALENDAR
VERSION:2.0
PRODID:-//Biblioteka Raczyńskich - ECPv6.2.3//NONSGML v1.0//EN
CALSCALE:GREGORIAN
METHOD:PUBLISH
X-WR-CALNAME:Biblioteka Raczyńskich
X-ORIGINAL-URL:https://bracz.edu.pl
X-WR-CALDESC:Events for Biblioteka Raczyńskich
REFRESH-INTERVAL;VALUE=DURATION:PT1H
X-Robots-Tag:noindex
X-PUBLISHED-TTL:PT1H
BEGIN:VTIMEZONE
TZID:Europe/Warsaw
BEGIN:DAYLIGHT
TZOFFSETFROM:+0100
TZOFFSETTO:+0200
TZNAME:CEST
DTSTART:20240331T010000
END:DAYLIGHT
BEGIN:STANDARD
TZOFFSETFROM:+0200
TZOFFSETTO:+0100
TZNAME:CET
DTSTART:20241027T010000
END:STANDARD
END:VTIMEZONE
BEGIN:VEVENT
DTSTART;TZID=Europe/Warsaw:20240416T160000
DTEND;TZID=Europe/Warsaw:20240416T173000
DTSTAMP:20260421T022053
CREATED:20240321T101257Z
LAST-MODIFIED:20240321T101257Z
UID:24913-1713283200-1713288600@bracz.edu.pl
SUMMARY:Wtorek dla seniora. Gitara na Maksa. Recital gitarowy Maksymiliana Śliwińskiego
DESCRIPTION:
URL:https://bracz.edu.pl/event/wtorek-dla-seniora-gitara-na-maksa-recital-gitarowy-maksymiliana-sliwinskiego/
END:VEVENT
END:VCALENDAR