BEGIN:VCALENDAR
VERSION:2.0
PRODID:-//Biblioteka Raczyńskich - ECPv6.2.3//NONSGML v1.0//EN
CALSCALE:GREGORIAN
METHOD:PUBLISH
X-WR-CALNAME:Biblioteka Raczyńskich
X-ORIGINAL-URL:https://bracz.edu.pl
X-WR-CALDESC:Events for Biblioteka Raczyńskich
REFRESH-INTERVAL;VALUE=DURATION:PT1H
X-Robots-Tag:noindex
X-PUBLISHED-TTL:PT1H
BEGIN:VTIMEZONE
TZID:Europe/Warsaw
BEGIN:DAYLIGHT
TZOFFSETFROM:+0100
TZOFFSETTO:+0200
TZNAME:CEST
DTSTART:20240331T010000
END:DAYLIGHT
BEGIN:STANDARD
TZOFFSETFROM:+0200
TZOFFSETTO:+0100
TZNAME:CET
DTSTART:20241027T010000
END:STANDARD
END:VTIMEZONE
BEGIN:VEVENT
DTSTART;TZID=Europe/Warsaw:20240418T173000
DTEND;TZID=Europe/Warsaw:20240418T193000
DTSTAMP:20260421T022047
CREATED:20240321T110505Z
LAST-MODIFIED:20240321T110505Z
UID:24929-1713461400-1713468600@bracz.edu.pl
SUMMARY:W małym kinie u Raczyńskich. Vivien i nowoorleański upał
DESCRIPTION:
URL:https://bracz.edu.pl/event/w-malym-kinie-u-raczynskich-vivien-i-nowoorleanski-upal/
END:VEVENT
END:VCALENDAR