BEGIN:VCALENDAR
VERSION:2.0
PRODID:-//Biblioteka Raczyńskich - ECPv6.2.3//NONSGML v1.0//EN
CALSCALE:GREGORIAN
METHOD:PUBLISH
X-WR-CALNAME:Biblioteka Raczyńskich
X-ORIGINAL-URL:https://bracz.edu.pl
X-WR-CALDESC:Events for Biblioteka Raczyńskich
REFRESH-INTERVAL;VALUE=DURATION:PT1H
X-Robots-Tag:noindex
X-PUBLISHED-TTL:PT1H
BEGIN:VTIMEZONE
TZID:Europe/Warsaw
BEGIN:DAYLIGHT
TZOFFSETFROM:+0100
TZOFFSETTO:+0200
TZNAME:CEST
DTSTART:20240331T010000
END:DAYLIGHT
BEGIN:STANDARD
TZOFFSETFROM:+0200
TZOFFSETTO:+0100
TZNAME:CET
DTSTART:20241027T010000
END:STANDARD
END:VTIMEZONE
BEGIN:VEVENT
DTSTART;TZID=Europe/Warsaw:20240420T123000
DTEND;TZID=Europe/Warsaw:20240420T133000
DTSTAMP:20260421T004156
CREATED:20240321T134953Z
LAST-MODIFIED:20240321T134953Z
UID:24976-1713616200-1713619800@bracz.edu.pl
SUMMARY:Oprowadzanie kuratorskie po wystawie czasowej Trójkąty miłosne u Sienkiewicza. Odsłona II: „Rodzina Połanieckich”
DESCRIPTION:
URL:https://bracz.edu.pl/event/oprowadzanie-kuratorskie-po-wystawie-czasowej-trojkaty-milosne-u-sienkiewicza-odslona-ii-rodzina-polanieckich-2/
END:VEVENT
END:VCALENDAR