BEGIN:VCALENDAR
VERSION:2.0
PRODID:-//Biblioteka Raczyńskich - ECPv6.2.3//NONSGML v1.0//EN
CALSCALE:GREGORIAN
METHOD:PUBLISH
X-WR-CALNAME:Biblioteka Raczyńskich
X-ORIGINAL-URL:https://bracz.edu.pl
X-WR-CALDESC:Events for Biblioteka Raczyńskich
REFRESH-INTERVAL;VALUE=DURATION:PT1H
X-Robots-Tag:noindex
X-PUBLISHED-TTL:PT1H
BEGIN:VTIMEZONE
TZID:Europe/Warsaw
BEGIN:DAYLIGHT
TZOFFSETFROM:+0100
TZOFFSETTO:+0200
TZNAME:CEST
DTSTART:20240331T010000
END:DAYLIGHT
BEGIN:STANDARD
TZOFFSETFROM:+0200
TZOFFSETTO:+0100
TZNAME:CET
DTSTART:20241027T010000
END:STANDARD
END:VTIMEZONE
BEGIN:VEVENT
DTSTART;TZID=Europe/Warsaw:20241014T180000
DTEND;TZID=Europe/Warsaw:20241016T190000
DTSTAMP:20260423T022037
CREATED:20240917T104714Z
LAST-MODIFIED:20240917T104714Z
UID:27443-1728928800-1729105200@bracz.edu.pl
SUMMARY:Dni Kultury Czeskiej
DESCRIPTION:
URL:https://bracz.edu.pl/event/dni-kultury-czeskiej-4/
END:VEVENT
BEGIN:VEVENT
DTSTART;TZID=Europe/Warsaw:20241016T170000
DTEND;TZID=Europe/Warsaw:20241016T183000
DTSTAMP:20260423T022037
CREATED:20240917T111220Z
LAST-MODIFIED:20240917T111220Z
UID:27447-1729098000-1729103400@bracz.edu.pl
SUMMARY:Spotkanie z Tomaszem Owsianym o Paragwaju w Filii 8
DESCRIPTION:
URL:https://bracz.edu.pl/event/spotkanie-z-tomaszem-owsianym-o-paragwaju-w-filii-8/
END:VEVENT
BEGIN:VEVENT
DTSTART;TZID=Europe/Warsaw:20241016T180000
DTEND;TZID=Europe/Warsaw:20241016T200000
DTSTAMP:20260423T022037
CREATED:20240917T114444Z
LAST-MODIFIED:20240917T114444Z
UID:27452-1729101600-1729108800@bracz.edu.pl
SUMMARY:Spotkanie z Michałem Januszkiewiczem i Bogną Wiczyńską\, autorami monografii poświęconych Andrzejowi Babińskiemu
DESCRIPTION:
URL:https://bracz.edu.pl/event/spotkanie-z-michalem-januszkiewiczem-i-bogna-wiczynska-autorami-monografii-poswieconych-andrzejowi-babinskiemu/
END:VEVENT
END:VCALENDAR