BEGIN:VCALENDAR
VERSION:2.0
PRODID:-//Biblioteka Raczyńskich - ECPv6.2.3//NONSGML v1.0//EN
CALSCALE:GREGORIAN
METHOD:PUBLISH
X-ORIGINAL-URL:https://bracz.edu.pl
X-WR-CALDESC:Events for Biblioteka Raczyńskich
REFRESH-INTERVAL;VALUE=DURATION:PT1H
X-Robots-Tag:noindex
X-PUBLISHED-TTL:PT1H
BEGIN:VTIMEZONE
TZID:Europe/Warsaw
BEGIN:DAYLIGHT
TZOFFSETFROM:+0100
TZOFFSETTO:+0200
TZNAME:CEST
DTSTART:20240331T010000
END:DAYLIGHT
BEGIN:STANDARD
TZOFFSETFROM:+0200
TZOFFSETTO:+0100
TZNAME:CET
DTSTART:20241027T010000
END:STANDARD
END:VTIMEZONE
BEGIN:VEVENT
DTSTART;TZID=Europe/Warsaw:20241030T123000
DTEND;TZID=Europe/Warsaw:20241030T123000
DTSTAMP:20260422T213835
CREATED:20240920T100744Z
LAST-MODIFIED:20240920T100744Z
UID:27576-1730291400-1730291400@bracz.edu.pl
SUMMARY:Zwiedzanie Mieszkania-Pracowni Kazimiery Iłłakowiczówny
DESCRIPTION:
URL:https://bracz.edu.pl/event/zwiedzanie-mieszkania-pracowni-kazimiery-illakowiczowny-18/
END:VEVENT
BEGIN:VEVENT
DTSTART;TZID=Europe/Warsaw:20241030T170000
DTEND;TZID=Europe/Warsaw:20241030T183000
DTSTAMP:20260422T213835
CREATED:20240920T102011Z
LAST-MODIFIED:20240920T102011Z
UID:27580-1730307600-1730313000@bracz.edu.pl
SUMMARY:„Iłły kuferek podróżny”. Spotkanie z Magdaleną Pocgaj
DESCRIPTION:
URL:https://bracz.edu.pl/event/illy-kuferek-podrozny-spotkanie-z-magdalena-pocgaj/
END:VEVENT
END:VCALENDAR