BEGIN:VCALENDAR
VERSION:2.0
PRODID:-//Biblioteka Raczyńskich - ECPv6.2.3//NONSGML v1.0//EN
CALSCALE:GREGORIAN
METHOD:PUBLISH
X-ORIGINAL-URL:https://bracz.edu.pl
X-WR-CALDESC:Events for Biblioteka Raczyńskich
REFRESH-INTERVAL;VALUE=DURATION:PT1H
X-Robots-Tag:noindex
X-PUBLISHED-TTL:PT1H
BEGIN:VTIMEZONE
TZID:Europe/Warsaw
BEGIN:DAYLIGHT
TZOFFSETFROM:+0100
TZOFFSETTO:+0200
TZNAME:CEST
DTSTART:20240331T010000
END:DAYLIGHT
BEGIN:STANDARD
TZOFFSETFROM:+0200
TZOFFSETTO:+0100
TZNAME:CET
DTSTART:20241027T010000
END:STANDARD
END:VTIMEZONE
BEGIN:VEVENT
DTSTART;TZID=Europe/Warsaw:20241108T170000
DTEND;TZID=Europe/Warsaw:20241108T183000
DTSTAMP:20260422T213833
CREATED:20241021T091954Z
LAST-MODIFIED:20241021T092119Z
UID:27918-1731085200-1731090600@bracz.edu.pl
SUMMARY:„Złamane skrzydła”. Wieczór z poezją Zuzanny Ginczanki i Krzysztofa Kamila Baczyńskiego w Filii 42
DESCRIPTION:
URL:https://bracz.edu.pl/event/zlamane-skrzydla-wieczor-z-poezja-zuzanny-ginczanki-i-krzysztofa-kamila-baczynskiego-w-filii-42/
END:VEVENT
BEGIN:VEVENT
DTSTART;TZID=Europe/Warsaw:20241108T180000
DTEND;TZID=Europe/Warsaw:20241108T200000
DTSTAMP:20260422T213833
CREATED:20241021T104611Z
LAST-MODIFIED:20241025T092824Z
UID:27922-1731088800-1731096000@bracz.edu.pl
SUMMARY:Solidarność. Kultura wolności czy solidarności? Spotkanie z Krzysztofem Czyżewskim
DESCRIPTION:
URL:https://bracz.edu.pl/event/solidarnosc-kultura-wolnosci-czy-solidarnosci-spotkanie-z-krzysztofem-czyzewskim/
END:VEVENT
END:VCALENDAR