BEGIN:VCALENDAR
VERSION:2.0
PRODID:-//Biblioteka Raczyńskich - ECPv6.2.3//NONSGML v1.0//EN
CALSCALE:GREGORIAN
METHOD:PUBLISH
X-ORIGINAL-URL:https://bracz.edu.pl
X-WR-CALDESC:Events for Biblioteka Raczyńskich
REFRESH-INTERVAL;VALUE=DURATION:PT1H
X-Robots-Tag:noindex
X-PUBLISHED-TTL:PT1H
BEGIN:VTIMEZONE
TZID:Europe/Warsaw
BEGIN:DAYLIGHT
TZOFFSETFROM:+0100
TZOFFSETTO:+0200
TZNAME:CEST
DTSTART:20240331T010000
END:DAYLIGHT
BEGIN:STANDARD
TZOFFSETFROM:+0200
TZOFFSETTO:+0100
TZNAME:CET
DTSTART:20241027T010000
END:STANDARD
END:VTIMEZONE
BEGIN:VEVENT
DTSTART;TZID=Europe/Warsaw:20241120T170000
DTEND;TZID=Europe/Warsaw:20241120T183000
DTSTAMP:20260422T213957
CREATED:20241024T090704Z
LAST-MODIFIED:20241024T090704Z
UID:28015-1732122000-1732127400@bracz.edu.pl
SUMMARY:Warsztaty i spotkanie z Anną Paszkiewicz wokół książki „Emocja”
DESCRIPTION:
URL:https://bracz.edu.pl/event/warsztaty-i-spotkanie-z-anna-paszkiewicz-wokol-ksiazki-emocja/
END:VEVENT
BEGIN:VEVENT
DTSTART;TZID=Europe/Warsaw:20241120T180000
DTEND;TZID=Europe/Warsaw:20241120T200000
DTSTAMP:20260422T213957
CREATED:20241106T074149Z
LAST-MODIFIED:20241106T101939Z
UID:28134-1732125600-1732132800@bracz.edu.pl
SUMMARY:Z Archiwum Książki Dziecięcej. Zalecane − zapomniane − zakazane. Lektury dzieci w XX-leciu międzywojennym
DESCRIPTION:
URL:https://bracz.edu.pl/event/z-archiwum-ksiazki-dzieciecej-zalecane-%e2%88%92-zapomniane-%e2%88%92-zakazane-lektury-dzieci-w-xx-leciu-miedzywojennym/
END:VEVENT
END:VCALENDAR