BEGIN:VCALENDAR
VERSION:2.0
PRODID:-//Biblioteka Raczyńskich - ECPv6.2.3//NONSGML v1.0//EN
CALSCALE:GREGORIAN
METHOD:PUBLISH
X-ORIGINAL-URL:https://bracz.edu.pl
X-WR-CALDESC:Events for Biblioteka Raczyńskich
REFRESH-INTERVAL;VALUE=DURATION:PT1H
X-Robots-Tag:noindex
X-PUBLISHED-TTL:PT1H
BEGIN:VTIMEZONE
TZID:Europe/Warsaw
BEGIN:DAYLIGHT
TZOFFSETFROM:+0100
TZOFFSETTO:+0200
TZNAME:CEST
DTSTART:20240331T010000
END:DAYLIGHT
BEGIN:STANDARD
TZOFFSETFROM:+0200
TZOFFSETTO:+0100
TZNAME:CET
DTSTART:20241027T010000
END:STANDARD
END:VTIMEZONE
BEGIN:VEVENT
DTSTART;TZID=Europe/Warsaw:20241121T170000
DTEND;TZID=Europe/Warsaw:20241121T180000
DTSTAMP:20260422T213835
CREATED:20241024T105011Z
LAST-MODIFIED:20241024T105011Z
UID:28028-1732208400-1732212000@bracz.edu.pl
SUMMARY:Mój pierwszy ekslibris. Warsztaty dla dzieci
DESCRIPTION:
URL:https://bracz.edu.pl/event/moj-pierwszy-ekslibris-warsztaty-dla-dzieci/
END:VEVENT
BEGIN:VEVENT
DTSTART;TZID=Europe/Warsaw:20241121T173000
DTEND;TZID=Europe/Warsaw:20241121T193000
DTSTAMP:20260422T213835
CREATED:20241024T103931Z
LAST-MODIFIED:20241024T103931Z
UID:28023-1732210200-1732217400@bracz.edu.pl
SUMMARY:W małym kinie u Raczyńskich. Betty\, Joan i siostrzana nienawiść
DESCRIPTION:
URL:https://bracz.edu.pl/event/w-malym-kinie-u-raczynskich-betty-joan-i-siostrzana-nienawisc/
END:VEVENT
END:VCALENDAR