BEGIN:VCALENDAR
VERSION:2.0
PRODID:-//Biblioteka Raczyńskich - ECPv6.2.3//NONSGML v1.0//EN
CALSCALE:GREGORIAN
METHOD:PUBLISH
X-ORIGINAL-URL:https://bracz.edu.pl
X-WR-CALDESC:Events for Biblioteka Raczyńskich
REFRESH-INTERVAL;VALUE=DURATION:PT1H
X-Robots-Tag:noindex
X-PUBLISHED-TTL:PT1H
BEGIN:VTIMEZONE
TZID:Europe/Warsaw
BEGIN:DAYLIGHT
TZOFFSETFROM:+0100
TZOFFSETTO:+0200
TZNAME:CEST
DTSTART:20240331T010000
END:DAYLIGHT
BEGIN:STANDARD
TZOFFSETFROM:+0200
TZOFFSETTO:+0100
TZNAME:CET
DTSTART:20241027T010000
END:STANDARD
END:VTIMEZONE
BEGIN:VEVENT
DTSTART;TZID=Europe/Warsaw:20241127T123000
DTEND;TZID=Europe/Warsaw:20241127T133000
DTSTAMP:20260422T200359
CREATED:20241024T113104Z
LAST-MODIFIED:20241024T113104Z
UID:28037-1732710600-1732714200@bracz.edu.pl
SUMMARY:Zwiedzanie Mieszkania-Pracowni Kazimiery Iłłakowiczówny
DESCRIPTION:
URL:https://bracz.edu.pl/event/zwiedzanie-mieszkania-pracowni-kazimiery-illakowiczowny-20/
END:VEVENT
BEGIN:VEVENT
DTSTART;TZID=Europe/Warsaw:20241127T170000
DTEND;TZID=Europe/Warsaw:20241127T190000
DTSTAMP:20260422T200359
CREATED:20241107T085946Z
LAST-MODIFIED:20241107T085946Z
UID:28156-1732726800-1732734000@bracz.edu.pl
SUMMARY:Tworzenie naturalnych zakładek. Warsztaty rękodzielnicze
DESCRIPTION:
URL:https://bracz.edu.pl/event/tworzenie-naturalnych-zakladek-warsztaty-rekodzielnicze/
END:VEVENT
BEGIN:VEVENT
DTSTART;TZID=Europe/Warsaw:20241127T170000
DTEND;TZID=Europe/Warsaw:20241127T190000
DTSTAMP:20260422T200359
CREATED:20241107T091857Z
LAST-MODIFIED:20241107T091857Z
UID:28162-1732726800-1732734000@bracz.edu.pl
SUMMARY:Spotkanie z Filipem Czekałą
DESCRIPTION:
URL:https://bracz.edu.pl/event/spotkanie-z-filipem-czekala-2/
END:VEVENT
BEGIN:VEVENT
DTSTART;TZID=Europe/Warsaw:20241127T180000
DTEND;TZID=Europe/Warsaw:20241127T193000
DTSTAMP:20260422T200359
CREATED:20241024T115205Z
LAST-MODIFIED:20241024T115205Z
UID:28041-1732730400-1732735800@bracz.edu.pl
SUMMARY:„Tędy i owędy z Melchiorem Wańkowiczem po Wielkopolsce i Kresach”. Wernisaż wystawy
DESCRIPTION:
URL:https://bracz.edu.pl/event/tedy-i-owedy-z-melchiorem-wankowiczem-po-wielkopolsce-i-kresach-wernisaz-wystawy/
END:VEVENT
BEGIN:VEVENT
DTSTART;TZID=Europe/Warsaw:20241127T180000
DTEND;TZID=Europe/Warsaw:20241127T200000
DTSTAMP:20260422T200359
CREATED:20241024T111223Z
LAST-MODIFIED:20241024T111223Z
UID:28033-1732730400-1732737600@bracz.edu.pl
SUMMARY:Spotkania bez fikcji. Jacek Hołub wokół książki „Wszystko mam bardziej. Życie w spektrum autyzmu” i reportaży społecznych
DESCRIPTION:
URL:https://bracz.edu.pl/event/spotkania-bez-fikcji-jacek-holub-wokol-ksiazki-wszystko-mam-bardziej-zycie-w-spektrum-autyzmu-i-reportazy-spolecznych/
END:VEVENT
END:VCALENDAR