BEGIN:VCALENDAR
VERSION:2.0
PRODID:-//Biblioteka Raczyńskich - ECPv6.2.3//NONSGML v1.0//EN
CALSCALE:GREGORIAN
METHOD:PUBLISH
X-WR-CALNAME:Biblioteka Raczyńskich
X-ORIGINAL-URL:https://bracz.edu.pl
X-WR-CALDESC:Events for Biblioteka Raczyńskich
REFRESH-INTERVAL;VALUE=DURATION:PT1H
X-Robots-Tag:noindex
X-PUBLISHED-TTL:PT1H
BEGIN:VTIMEZONE
TZID:Europe/Warsaw
BEGIN:DAYLIGHT
TZOFFSETFROM:+0100
TZOFFSETTO:+0200
TZNAME:CEST
DTSTART:20240331T010000
END:DAYLIGHT
BEGIN:STANDARD
TZOFFSETFROM:+0200
TZOFFSETTO:+0100
TZNAME:CET
DTSTART:20241027T010000
END:STANDARD
END:VTIMEZONE
BEGIN:VEVENT
DTSTART;TZID=Europe/Warsaw:20241129T170000
DTEND;TZID=Europe/Warsaw:20241129T190000
DTSTAMP:20260422T195343
CREATED:20241106T141446Z
LAST-MODIFIED:20241106T141446Z
UID:28150-1732899600-1732906800@bracz.edu.pl
SUMMARY:Wielki quiz wiedzy o Harrym Potterze
DESCRIPTION:
URL:https://bracz.edu.pl/event/wielki-quiz-wiedzy-o-harrym-potterze/
END:VEVENT
BEGIN:VEVENT
DTSTART;TZID=Europe/Warsaw:20241129T180000
DTEND;TZID=Europe/Warsaw:20241129T193000
DTSTAMP:20260422T195343
CREATED:20241024T123112Z
LAST-MODIFIED:20241024T123112Z
UID:28053-1732903200-1732908600@bracz.edu.pl
SUMMARY:Klub książki u Raczyńskich. Bram Stoker „Dracula”
DESCRIPTION:
URL:https://bracz.edu.pl/event/klub-ksiazki-u-raczynskich-bram-stoker-dracula/
END:VEVENT
BEGIN:VEVENT
DTSTART;TZID=Europe/Warsaw:20241129T180000
DTEND;TZID=Europe/Warsaw:20241129T200000
DTSTAMP:20260422T195343
CREATED:20241029T103445Z
LAST-MODIFIED:20241029T103528Z
UID:28101-1732903200-1732910400@bracz.edu.pl
SUMMARY:Opowieści z dalekiego kraju. Spotkanie o książce "Opowiadaczka z Puebla Laguna" Leslie Marmon Silko
DESCRIPTION:
URL:https://bracz.edu.pl/event/opowiesci-z-dalekiego-kraju-spotkanie-o-ksiazce-opowiadaczka-z-puebla-laguna-leslie-marmon-silko/
END:VEVENT
END:VCALENDAR