BEGIN:VCALENDAR
VERSION:2.0
PRODID:-//Biblioteka Raczyńskich - ECPv6.2.3//NONSGML v1.0//EN
CALSCALE:GREGORIAN
METHOD:PUBLISH
X-WR-CALNAME:Biblioteka Raczyńskich
X-ORIGINAL-URL:https://bracz.edu.pl
X-WR-CALDESC:Events for Biblioteka Raczyńskich
REFRESH-INTERVAL;VALUE=DURATION:PT1H
X-Robots-Tag:noindex
X-PUBLISHED-TTL:PT1H
BEGIN:VTIMEZONE
TZID:Europe/Warsaw
BEGIN:DAYLIGHT
TZOFFSETFROM:+0100
TZOFFSETTO:+0200
TZNAME:CEST
DTSTART:20240331T010000
END:DAYLIGHT
BEGIN:STANDARD
TZOFFSETFROM:+0200
TZOFFSETTO:+0100
TZNAME:CET
DTSTART:20241027T010000
END:STANDARD
END:VTIMEZONE
BEGIN:VEVENT
DTSTART;TZID=Europe/Warsaw:20241209T090000
DTEND;TZID=Europe/Warsaw:20241211T170000
DTSTAMP:20260422T214508
CREATED:20241119T093602Z
LAST-MODIFIED:20241119T093602Z
UID:28284-1733734800-1733936400@bracz.edu.pl
SUMMARY:Ogólnopolska konferencja naukowa „Dzieło nieudane i jego konteksty”
DESCRIPTION:
URL:https://bracz.edu.pl/event/ogolnopolska-konferencja-naukowa-dzielo-nieudane-i-jego-konteksty/
END:VEVENT
BEGIN:VEVENT
DTSTART;TZID=Europe/Warsaw:20241211T123000
DTEND;TZID=Europe/Warsaw:20241211T133000
DTSTAMP:20260422T214508
CREATED:20241119T101444Z
LAST-MODIFIED:20241119T101444Z
UID:28297-1733920200-1733923800@bracz.edu.pl
SUMMARY:Zwiedzanie Mieszkania-Pracowni Kazimiery Iłłakowiczówny
DESCRIPTION:
URL:https://bracz.edu.pl/event/zwiedzanie-mieszkania-pracowni-kazimiery-illakowiczowny-21/
END:VEVENT
BEGIN:VEVENT
DTSTART;TZID=Europe/Warsaw:20241211T180000
DTEND;TZID=Europe/Warsaw:20241211T200000
DTSTAMP:20260422T214508
CREATED:20241119T102246Z
LAST-MODIFIED:20241119T102246Z
UID:28301-1733940000-1733947200@bracz.edu.pl
SUMMARY:Pisać Noblem. „Buddenbrookowie” po raz wtóry. Rozmowa z Jerzym Kochem\, autorem nowego przekładu
DESCRIPTION:
URL:https://bracz.edu.pl/event/pisac-noblem-buddenbrookowie-po-raz-wtory-rozmowa-z-jerzym-kochem-autorem-nowego-przekladu/
END:VEVENT
END:VCALENDAR