BEGIN:VCALENDAR
VERSION:2.0
PRODID:-//Biblioteka Raczyńskich - ECPv6.2.3//NONSGML v1.0//EN
CALSCALE:GREGORIAN
METHOD:PUBLISH
X-ORIGINAL-URL:https://bracz.edu.pl
X-WR-CALDESC:Events for Biblioteka Raczyńskich
REFRESH-INTERVAL;VALUE=DURATION:PT1H
X-Robots-Tag:noindex
X-PUBLISHED-TTL:PT1H
BEGIN:VTIMEZONE
TZID:Europe/Warsaw
BEGIN:DAYLIGHT
TZOFFSETFROM:+0100
TZOFFSETTO:+0200
TZNAME:CEST
DTSTART:20240331T010000
END:DAYLIGHT
BEGIN:STANDARD
TZOFFSETFROM:+0200
TZOFFSETTO:+0100
TZNAME:CET
DTSTART:20241027T010000
END:STANDARD
END:VTIMEZONE
BEGIN:VEVENT
DTSTART;TZID=Europe/Warsaw:20241213T170000
DTEND;TZID=Europe/Warsaw:20241213T200000
DTSTAMP:20260422T195616
CREATED:20241119T103531Z
LAST-MODIFIED:20241119T103531Z
UID:28309-1734109200-1734120000@bracz.edu.pl
SUMMARY:Namaluj sobie anioła. Warsztat z podstaw iluminacji średniowiecznej
DESCRIPTION:
URL:https://bracz.edu.pl/event/namaluj-sobie-aniola-warsztat-z-podstaw-iluminacji-sredniowiecznej/
END:VEVENT
END:VCALENDAR