BEGIN:VCALENDAR
VERSION:2.0
PRODID:-//Biblioteka Raczyńskich - ECPv6.2.3//NONSGML v1.0//EN
CALSCALE:GREGORIAN
METHOD:PUBLISH
X-ORIGINAL-URL:https://bracz.edu.pl
X-WR-CALDESC:Events for Biblioteka Raczyńskich
REFRESH-INTERVAL;VALUE=DURATION:PT1H
X-Robots-Tag:noindex
X-PUBLISHED-TTL:PT1H
BEGIN:VTIMEZONE
TZID:Europe/Warsaw
BEGIN:DAYLIGHT
TZOFFSETFROM:+0100
TZOFFSETTO:+0200
TZNAME:CEST
DTSTART:20250330T010000
END:DAYLIGHT
BEGIN:STANDARD
TZOFFSETFROM:+0200
TZOFFSETTO:+0100
TZNAME:CET
DTSTART:20251026T010000
END:STANDARD
END:VTIMEZONE
BEGIN:VEVENT
DTSTART;TZID=Europe/Warsaw:20250108T123000
DTEND;TZID=Europe/Warsaw:20250108T133000
DTSTAMP:20260422T214503
CREATED:20241218T084840Z
LAST-MODIFIED:20241218T084840Z
UID:28568-1736339400-1736343000@bracz.edu.pl
SUMMARY:Zwiedzanie Mieszkania-Pracowni Kazimiery Iłłakowiczówny
DESCRIPTION:
URL:https://bracz.edu.pl/event/zwiedzanie-mieszkania-pracowni-kazimiery-illakowiczowny-22/
END:VEVENT
BEGIN:VEVENT
DTSTART;TZID=Europe/Warsaw:20250108T180000
DTEND;TZID=Europe/Warsaw:20250108T200000
DTSTAMP:20260422T214503
CREATED:20241218T091733Z
LAST-MODIFIED:20250102T134752Z
UID:28575-1736359200-1736366400@bracz.edu.pl
SUMMARY:Finisaż wystawy „Tędy i owędy z Melchiorem Wańkowiczem po Wielkopolsce i Kresach"
DESCRIPTION:Zwieńczeniem Roku Melchiora Wańkowicza będzie spotkanie z Tomaszem Kubą Kozłowskim „Z Melchiorem Wańkowiczem po Kresach”. W programie wyprawa do Kałużyc i Nowotrzeb\, na Mińszczyznę i Litwę\, krain lat dziecięcych pisarza\, tak barwnie wspominanych w „Szczenięcych latach”. Ale także myszkowanie po innych zakamarkach ziem wschodnich dawnej Rzeczypospolitej\, wpisanych w jego biografię\, odwiedzanych i opisywanych przez Wańkowicza w dziesiątkach tekstów i reportaży. Opowieść o barwnym życiorysie niezrównanego gawędziarza\, tak silnie związanego z Kresami\, m.in. poprzez służbę w 1 Korpusie Polskim w Rosji\, działalność w Towarzystwie Straży Kresowej czy niezliczone podróże reporterskie w latach 30.\, ilustrowana będzie fragmentami tekstów oraz oryginalną ikonografią z epoki.
URL:https://bracz.edu.pl/event/finisaz-wystawy-tedy-i-owedy-z-melchiorem-wankowiczem-po-wielkopolsce-i-kresach/
END:VEVENT
END:VCALENDAR