BEGIN:VCALENDAR
VERSION:2.0
PRODID:-//Biblioteka Raczyńskich - ECPv6.2.3//NONSGML v1.0//EN
CALSCALE:GREGORIAN
METHOD:PUBLISH
X-ORIGINAL-URL:https://bracz.edu.pl
X-WR-CALDESC:Events for Biblioteka Raczyńskich
REFRESH-INTERVAL;VALUE=DURATION:PT1H
X-Robots-Tag:noindex
X-PUBLISHED-TTL:PT1H
BEGIN:VTIMEZONE
TZID:Europe/Warsaw
BEGIN:DAYLIGHT
TZOFFSETFROM:+0100
TZOFFSETTO:+0200
TZNAME:CEST
DTSTART:20250330T010000
END:DAYLIGHT
BEGIN:STANDARD
TZOFFSETFROM:+0200
TZOFFSETTO:+0100
TZNAME:CET
DTSTART:20251026T010000
END:STANDARD
END:VTIMEZONE
BEGIN:VEVENT
DTSTART;TZID=Europe/Warsaw:20250109T170000
DTEND;TZID=Europe/Warsaw:20250109T190000
DTSTAMP:20260424T144842
CREATED:20241218T093010Z
LAST-MODIFIED:20241218T093010Z
UID:28578-1736442000-1736449200@bracz.edu.pl
SUMMARY:Promocja Zeszytów Historycznych Solidarności Wielkopolskiej
DESCRIPTION:
URL:https://bracz.edu.pl/event/promocja-zeszytow-historycznych-solidarnosci-wielkopolskiej/
END:VEVENT
END:VCALENDAR