BEGIN:VCALENDAR
VERSION:2.0
PRODID:-//Biblioteka Raczyńskich - ECPv6.2.3//NONSGML v1.0//EN
CALSCALE:GREGORIAN
METHOD:PUBLISH
X-WR-CALNAME:Biblioteka Raczyńskich
X-ORIGINAL-URL:https://bracz.edu.pl
X-WR-CALDESC:Events for Biblioteka Raczyńskich
REFRESH-INTERVAL;VALUE=DURATION:PT1H
X-Robots-Tag:noindex
X-PUBLISHED-TTL:PT1H
BEGIN:VTIMEZONE
TZID:Europe/Warsaw
BEGIN:DAYLIGHT
TZOFFSETFROM:+0100
TZOFFSETTO:+0200
TZNAME:CEST
DTSTART:20250330T010000
END:DAYLIGHT
BEGIN:STANDARD
TZOFFSETFROM:+0200
TZOFFSETTO:+0100
TZNAME:CET
DTSTART:20251026T010000
END:STANDARD
END:VTIMEZONE
BEGIN:VEVENT
DTSTART;TZID=Europe/Warsaw:20250118T120000
DTEND;TZID=Europe/Warsaw:20250118T160000
DTSTAMP:20260424T155531
CREATED:20241218T110817Z
LAST-MODIFIED:20241218T110817Z
UID:28598-1737201600-1737216000@bracz.edu.pl
SUMMARY:Sobota z Edwardem Raczyńskim. Prelekcja „Wielkopolski Indiana Jones” i warsztaty z sitodruku
DESCRIPTION:
URL:https://bracz.edu.pl/event/sobota-z-edwardem-raczynskim-prelekcja-wielkopolski-indiana-jones-i-warsztaty-z-sitodruku/
END:VEVENT
END:VCALENDAR