BEGIN:VCALENDAR
VERSION:2.0
PRODID:-//Biblioteka Raczyńskich - ECPv6.2.3//NONSGML v1.0//EN
CALSCALE:GREGORIAN
METHOD:PUBLISH
X-ORIGINAL-URL:https://bracz.edu.pl
X-WR-CALDESC:Events for Biblioteka Raczyńskich
REFRESH-INTERVAL;VALUE=DURATION:PT1H
X-Robots-Tag:noindex
X-PUBLISHED-TTL:PT1H
BEGIN:VTIMEZONE
TZID:Europe/Warsaw
BEGIN:DAYLIGHT
TZOFFSETFROM:+0100
TZOFFSETTO:+0200
TZNAME:CEST
DTSTART:20250330T010000
END:DAYLIGHT
BEGIN:STANDARD
TZOFFSETFROM:+0200
TZOFFSETTO:+0100
TZNAME:CET
DTSTART:20251026T010000
END:STANDARD
END:VTIMEZONE
BEGIN:VEVENT
DTSTART;TZID=Europe/Warsaw:20250219T180000
DTEND;TZID=Europe/Warsaw:20250219T193000
DTSTAMP:20260421T152006
CREATED:20250117T122150Z
LAST-MODIFIED:20250123T134253Z
UID:28921-1739988000-1739993400@bracz.edu.pl
SUMMARY:Z Archiwum Książki Dziecięcej. Literatura dziecięca jako kompas w spotkaniu z emocjami − w poszukiwaniu tego\, co zasila i wzmacnia. Warsztaty z arteterapeutką Anną Bany
DESCRIPTION:
URL:https://bracz.edu.pl/event/z-archiwum-ksiazki-dzieciecej-literatura-dziecieca-jako-kompas-w-spotkaniu-z-emocjami-%e2%88%92-w-poszukiwaniu-tego-co-zasila-i-wzmacnia-spotkanie-z-arteterapeutka-anna-bany/
END:VEVENT
END:VCALENDAR