BEGIN:VCALENDAR
VERSION:2.0
PRODID:-//Biblioteka Raczyńskich - ECPv6.2.3//NONSGML v1.0//EN
CALSCALE:GREGORIAN
METHOD:PUBLISH
X-WR-CALNAME:Biblioteka Raczyńskich
X-ORIGINAL-URL:https://bracz.edu.pl
X-WR-CALDESC:Events for Biblioteka Raczyńskich
REFRESH-INTERVAL;VALUE=DURATION:PT1H
X-Robots-Tag:noindex
X-PUBLISHED-TTL:PT1H
BEGIN:VTIMEZONE
TZID:Europe/Warsaw
BEGIN:DAYLIGHT
TZOFFSETFROM:+0100
TZOFFSETTO:+0200
TZNAME:CEST
DTSTART:20250330T010000
END:DAYLIGHT
BEGIN:STANDARD
TZOFFSETFROM:+0200
TZOFFSETTO:+0100
TZNAME:CET
DTSTART:20251026T010000
END:STANDARD
END:VTIMEZONE
BEGIN:VEVENT
DTSTART;TZID=Europe/Warsaw:20250311T123000
DTEND;TZID=Europe/Warsaw:20250311T140000
DTSTAMP:20260419T150941
CREATED:20250211T090934Z
LAST-MODIFIED:20250211T090934Z
UID:29143-1741696200-1741701600@bracz.edu.pl
SUMMARY:Od posągu do człowieka\, czyli o życiu Henryka Sienkiewicza. Zwiedzanie z przewodnikiem
DESCRIPTION:
URL:https://bracz.edu.pl/event/od-posagu-do-czlowieka-czyli-o-zyciu-henryka-sienkiewicza-zwiedzanie-z-przewodnikiem/
END:VEVENT
BEGIN:VEVENT
DTSTART;TZID=Europe/Warsaw:20250311T180000
DTEND;TZID=Europe/Warsaw:20250311T193000
DTSTAMP:20260419T150941
CREATED:20250211T092300Z
LAST-MODIFIED:20250211T092300Z
UID:29147-1741716000-1741721400@bracz.edu.pl
SUMMARY:Czytanie przestrzeni. Parasol i Czteropak. Powojenna architektura poznańskich targów
DESCRIPTION:
URL:https://bracz.edu.pl/event/czytanie-przestrzeni-parasol-i-czteropak-powojenna-architektura-poznanskich-targow/
END:VEVENT
END:VCALENDAR